BEGIN:VCALENDAR
VERSION:2.0
PRODID:-//A.N.T. zenekar - ECPv6.15.20//NONSGML v1.0//EN
CALSCALE:GREGORIAN
METHOD:PUBLISH
X-WR-CALNAME:A.N.T. zenekar
X-ORIGINAL-URL:https://www.antzenekar.com
X-WR-CALDESC:Események A.N.T. zenekar
REFRESH-INTERVAL;VALUE=DURATION:PT1H
X-Robots-Tag:noindex
X-PUBLISHED-TTL:PT1H
BEGIN:VTIMEZONE
TZID:UTC
BEGIN:STANDARD
TZOFFSETFROM:+0000
TZOFFSETTO:+0000
TZNAME:UTC
DTSTART:20230101T000000
END:STANDARD
END:VTIMEZONE
BEGIN:VEVENT
DTSTART;VALUE=DATE:20240331
DTEND;VALUE=DATE:20240401
DTSTAMP:20260422T012829
CREATED:20230102T181757Z
LAST-MODIFIED:20230102T181757Z
UID:7278-1711843200-1711929599@www.antzenekar.com
SUMMARY:Foglalt - Temerin
DESCRIPTION:F
URL:https://www.antzenekar.com/esemenyek/foglalt-temerin-13/
LOCATION:Temerin
CATEGORIES:Foglalt
ATTACH;FMTTYPE=image/jpeg:https://www.antzenekar.com/wp-content/uploads/2020/11/Temerin-1280-x550-1-1.jpg
END:VEVENT
END:VCALENDAR