BEGIN:VCALENDAR
VERSION:2.0
PRODID:-//A.N.T. zenekar - ECPv6.15.20//NONSGML v1.0//EN
CALSCALE:GREGORIAN
METHOD:PUBLISH
X-ORIGINAL-URL:https://www.antzenekar.com
X-WR-CALDESC:Események A.N.T. zenekar
REFRESH-INTERVAL;VALUE=DURATION:PT1H
X-Robots-Tag:noindex
X-PUBLISHED-TTL:PT1H
BEGIN:VTIMEZONE
TZID:UTC
BEGIN:STANDARD
TZOFFSETFROM:+0000
TZOFFSETTO:+0000
TZNAME:UTC
DTSTART:20220101T000000
END:STANDARD
END:VTIMEZONE
BEGIN:VEVENT
DTSTART;VALUE=DATE:20230128
DTEND;VALUE=DATE:20230129
DTSTAMP:20260421T003017
CREATED:20221031T091222Z
LAST-MODIFIED:20221031T091222Z
UID:7221-1674864000-1674950399@www.antzenekar.com
SUMMARY:Bál - Eszék
DESCRIPTION:
URL:https://www.antzenekar.com/esemenyek/bal-eszek/
LOCATION:Eszék\, Eszék\, 31000\, Horvátország:
CATEGORIES:Bál
ATTACH;FMTTYPE=image/jpeg:https://www.antzenekar.com/wp-content/uploads/2020/11/A.N.T.-zenekar-1280-x550-02-1024x440-5-fo-szax-hegedu.jpg
END:VEVENT
END:VCALENDAR