BEGIN:VCALENDAR
VERSION:2.0
PRODID:-//A.N.T. zenekar - ECPv6.15.20//NONSGML v1.0//EN
CALSCALE:GREGORIAN
METHOD:PUBLISH
X-WR-CALNAME:A.N.T. zenekar
X-ORIGINAL-URL:https://www.antzenekar.com
X-WR-CALDESC:Események A.N.T. zenekar
REFRESH-INTERVAL;VALUE=DURATION:PT1H
X-Robots-Tag:noindex
X-PUBLISHED-TTL:PT1H
BEGIN:VTIMEZONE
TZID:Europe/Budapest
BEGIN:DAYLIGHT
TZOFFSETFROM:+0100
TZOFFSETTO:+0200
TZNAME:CEST
DTSTART:20220327T010000
END:DAYLIGHT
BEGIN:STANDARD
TZOFFSETFROM:+0200
TZOFFSETTO:+0100
TZNAME:CET
DTSTART:20221030T010000
END:STANDARD
BEGIN:DAYLIGHT
TZOFFSETFROM:+0100
TZOFFSETTO:+0200
TZNAME:CEST
DTSTART:20230326T010000
END:DAYLIGHT
BEGIN:STANDARD
TZOFFSETFROM:+0200
TZOFFSETTO:+0100
TZNAME:CET
DTSTART:20231029T010000
END:STANDARD
BEGIN:DAYLIGHT
TZOFFSETFROM:+0100
TZOFFSETTO:+0200
TZNAME:CEST
DTSTART:20240331T010000
END:DAYLIGHT
BEGIN:STANDARD
TZOFFSETFROM:+0200
TZOFFSETTO:+0100
TZNAME:CET
DTSTART:20241027T010000
END:STANDARD
BEGIN:DAYLIGHT
TZOFFSETFROM:+0100
TZOFFSETTO:+0200
TZNAME:CEST
DTSTART:20250330T010000
END:DAYLIGHT
BEGIN:STANDARD
TZOFFSETFROM:+0200
TZOFFSETTO:+0100
TZNAME:CET
DTSTART:20251026T010000
END:STANDARD
BEGIN:DAYLIGHT
TZOFFSETFROM:+0100
TZOFFSETTO:+0200
TZNAME:CEST
DTSTART:20260329T010000
END:DAYLIGHT
BEGIN:STANDARD
TZOFFSETFROM:+0200
TZOFFSETTO:+0100
TZNAME:CET
DTSTART:20261025T010000
END:STANDARD
END:VTIMEZONE
BEGIN:VTIMEZONE
TZID:UTC
BEGIN:STANDARD
TZOFFSETFROM:+0000
TZOFFSETTO:+0000
TZNAME:UTC
DTSTART:20220101T000000
END:STANDARD
END:VTIMEZONE
BEGIN:VEVENT
DTSTART;VALUE=DATE:20250405
DTEND;VALUE=DATE:20250406
DTSTAMP:20260420T191645
CREATED:20241223T094325Z
LAST-MODIFIED:20241223T095323Z
UID:8168-1743811200-1743897599@www.antzenekar.com
SUMMARY:Bál - Pilismarót
DESCRIPTION:
URL:https://www.antzenekar.com/esemenyek/bal-pilismarot/
LOCATION:Pilismarót\, Pilismarót\, 2028\, Hungary
CATEGORIES:Bál
ATTACH;FMTTYPE=image/jpeg:https://www.antzenekar.com/wp-content/uploads/2024/11/A.N.T.-zenekar-1280-x550-02-1024x440-4-fo-szax-esKanalas-01.jpg
END:VEVENT
BEGIN:VEVENT
DTSTART;VALUE=DATE:20250329
DTEND;VALUE=DATE:20250330
DTSTAMP:20260420T191645
CREATED:20241123T171927Z
LAST-MODIFIED:20241123T171927Z
UID:8150-1743206400-1743292799@www.antzenekar.com
SUMMARY:Lakodalom - Tapolca
DESCRIPTION:
URL:https://www.antzenekar.com/esemenyek/lakodalom-tapolca/
LOCATION:Tapolca\, Tapolca\, 8300\, Hungary
CATEGORIES:Lakodalom
ATTACH;FMTTYPE=image/jpeg:https://www.antzenekar.com/wp-content/uploads/2024/11/A.N.T.-zenekar-1280-x550-02-1024x440-4-fo-szax-esKanalas-01.jpg
END:VEVENT
BEGIN:VEVENT
DTSTART;VALUE=DATE:20241231
DTEND;VALUE=DATE:20250101
DTSTAMP:20260420T191645
CREATED:20240308T122818Z
LAST-MODIFIED:20240308T124027Z
UID:7750-1735603200-1735689599@www.antzenekar.com
SUMMARY:Szilveszteri bál - Szentmihály
DESCRIPTION:Ez a bál egy nyitott esemény\, a szervezők és mi jó magunk is szívesen várunk minden érdeklődőt! \nBulizzunk egy jót együtt az év utolsó napján!
URL:https://www.antzenekar.com/esemenyek/szilveszteri-bal-szentmihaly-2/
LOCATION:Szentmihály\, Szentmihály\, 23202\, Szerbia
CATEGORIES:Bál
ATTACH;FMTTYPE=image/jpeg:https://www.antzenekar.com/wp-content/uploads/2021/03/A.N.T.-zenekar-1280-x550-02-1024x440-5-fo-szax-hegedus.jpg
END:VEVENT
BEGIN:VEVENT
DTSTART;VALUE=DATE:20241019
DTEND;VALUE=DATE:20241020
DTSTAMP:20260420T191645
CREATED:20240822T125210Z
LAST-MODIFIED:20240822T125210Z
UID:8049-1729296000-1729382399@www.antzenekar.com
SUMMARY:Lakodalom - Dány
DESCRIPTION:
URL:https://www.antzenekar.com/esemenyek/lakodalom-dany/
LOCATION:Dány\, Dány\, 2118\, Magyarország
CATEGORIES:Lakodalom
ATTACH;FMTTYPE=image/jpeg:https://www.antzenekar.com/wp-content/uploads/2020/11/A.N.T.-zenekar-1280-x550-02-1024x440-4-fo-szax.jpg
END:VEVENT
BEGIN:VEVENT
DTSTART;VALUE=DATE:20241012
DTEND;VALUE=DATE:20241013
DTSTAMP:20260420T191645
CREATED:20240429T131033Z
LAST-MODIFIED:20240429T131033Z
UID:7845-1728691200-1728777599@www.antzenekar.com
SUMMARY:Lakodalom - Szabadka
DESCRIPTION:
URL:https://www.antzenekar.com/esemenyek/lakodalom-szabadka/
LOCATION:Szabadka\, 24000\, Szerbia
CATEGORIES:Lakodalom
ATTACH;FMTTYPE=image/jpeg:https://www.antzenekar.com/wp-content/uploads/2020/11/A.N.T.-zenekar-1280-x550-02-1024x440-5-fo-szax-hegedu.jpg
END:VEVENT
BEGIN:VEVENT
DTSTART;VALUE=DATE:20240908
DTEND;VALUE=DATE:20240909
DTSTAMP:20260420T191645
CREATED:20240726T134453Z
LAST-MODIFIED:20240726T134453Z
UID:8013-1725753600-1725839999@www.antzenekar.com
SUMMARY:Lakodalom - Kakucs
DESCRIPTION:
URL:https://www.antzenekar.com/esemenyek/lakodalom-kakucs/
LOCATION:Kakucs\, 2366\, Magyarország
CATEGORIES:Lakodalom
ATTACH;FMTTYPE=image/jpeg:https://www.antzenekar.com/wp-content/uploads/2024/04/A.N.T.-zenekar-Azuro-1280-x550-02-1024x440-6-fo-szax-hegedu-.jpg
END:VEVENT
BEGIN:VEVENT
DTSTART;VALUE=DATE:20240907
DTEND;VALUE=DATE:20240908
DTSTAMP:20260420T191645
CREATED:20240313T171742Z
LAST-MODIFIED:20240322T160913Z
UID:7760-1725667200-1725753599@www.antzenekar.com
SUMMARY:Lakodalom - Tata
DESCRIPTION:
URL:https://www.antzenekar.com/esemenyek/lakodalom-tata/
LOCATION:Tata\, Tata\, 2890\, Magyarország
CATEGORIES:Lakodalom
ATTACH;FMTTYPE=image/jpeg:https://www.antzenekar.com/wp-content/uploads/2021/09/ant-azzuroval-Jani-Norbi.jpg
END:VEVENT
BEGIN:VEVENT
DTSTART;VALUE=DATE:20240824
DTEND;VALUE=DATE:20240825
DTSTAMP:20260420T191645
CREATED:20230512T095904Z
LAST-MODIFIED:20230512T095904Z
UID:7504-1724457600-1724543999@www.antzenekar.com
SUMMARY:Lakodalom - Gárdony
DESCRIPTION:
URL:https://www.antzenekar.com/esemenyek/lakodalom-gardony/
LOCATION:Gárdony\, Gárdony\, 2483\, Magyarország
CATEGORIES:Lakodalom
ATTACH;FMTTYPE=image/jpeg:https://www.antzenekar.com/wp-content/uploads/2022/09/A.N.T.-zenekar-1280-x550-02-1024x440-4-fo-szax-esTomi.jpg
END:VEVENT
BEGIN:VEVENT
DTSTART;TZID=Europe/Budapest:20240804T210000
DTEND;TZID=Europe/Budapest:20240805T010000
DTSTAMP:20260420T191645
CREATED:20240516T181334Z
LAST-MODIFIED:20240726T144819Z
UID:7855-1722805200-1722819600@www.antzenekar.com
SUMMARY:XIX. Nagylóki napok
DESCRIPTION:
URL:https://www.antzenekar.com/esemenyek/xix-nagyloki-napok/
LOCATION:Nagylók\, Kossuth utca. 4.\, Nagylók\, 2435\, Magyarország
CATEGORIES:Bál,Falunap,Koncert
ATTACH;FMTTYPE=image/jpeg:https://www.antzenekar.com/wp-content/uploads/2024/05/A.N.T.-zenekar-1280-x550-02-1024x440-5-fo-szax-basszus-Kanalas-03.jpg
END:VEVENT
BEGIN:VEVENT
DTSTART;VALUE=DATE:20240727
DTEND;VALUE=DATE:20240728
DTSTAMP:20260420T191645
CREATED:20240301T114133Z
LAST-MODIFIED:20240301T114133Z
UID:7742-1722038400-1722124799@www.antzenekar.com
SUMMARY:Születésnap - Komárom
DESCRIPTION:
URL:https://www.antzenekar.com/esemenyek/szuletesnap-komarom/
LOCATION:Komárom\, 2900\, Magyarország
CATEGORIES:Születésnap
ATTACH;FMTTYPE=image/jpeg:https://www.antzenekar.com/wp-content/uploads/2020/11/A.N.T.-zenekar-1280-x550-02-1024x440-5-fo-szax-es-basszus.jpg
END:VEVENT
BEGIN:VEVENT
DTSTART;TZID=Europe/Budapest:20240720T200000
DTEND;TZID=Europe/Budapest:20240721T030000
DTSTAMP:20260420T191645
CREATED:20240517T193947Z
LAST-MODIFIED:20240707T080537Z
UID:7866-1721505600-1721530800@www.antzenekar.com
SUMMARY:Illés nap Temerin - Zenés\, táncos rendezvény - Bál
DESCRIPTION:Illés nap Temerin – Zenés\, táncos rendezvény – Bál \nIdőpont: 2024. Július 20.\nKezdés: 20:00\nVége: 03:00\nHelyszín: Vásártér – Temerin\nCím: Breza 4\, Temerin\, Szerbia\nhttps://www.antzenekar.com \nEsemény a Facebookon \nhttps://www.youtube.com/@antzenekar/videos \nA temeriniek 171 éve tettek fogadalmat az Illés-nap megünneplésére\, amelynek jelentősége az itt élő magyarság nyelvi\, egyházi és kulturális hagyományainak megőrizésében rejlik.\nA temeriniek fogadalmának története az 1848-49-es magyar szabadságharcig nyúlik vissza. A forradalom után visszatérő temerini lakosság nehezen tudta újraindítani a termelést a parlagon maradt földeken. Emellett dögvész is sújtotta akkoriban a települést\, és rengeteg háziállat veszett oda. 1853. július 19-én nagy vihar verte el a gabonát Temerin határában. Ekkor tettek fogadalmat a falu lakói. \nEz egy nyílt rendezvény\, a szervezők és mi is mindenkit szeretettel várunk. Bulizzunk egy jót együtt! 🙂
URL:https://www.antzenekar.com/esemenyek/illes-nap/
LOCATION:Temerin
CATEGORIES:Bál,Falunap,Koncert
ATTACH;FMTTYPE=image/jpeg:https://www.antzenekar.com/wp-content/uploads/2024/05/A.N.T.-zenekar-1280-x550-02-1024x440-5-fo-szax-Kanalas.jpg
END:VEVENT
BEGIN:VEVENT
DTSTART;VALUE=DATE:20240629
DTEND;VALUE=DATE:20240630
DTSTAMP:20260420T191645
CREATED:20230728T075545Z
LAST-MODIFIED:20230728T080519Z
UID:7557-1719619200-1719705599@www.antzenekar.com
SUMMARY:Lakodalom - Bogád
DESCRIPTION:
URL:https://www.antzenekar.com/esemenyek/lakodalom-bogad/
LOCATION:Bogád\, Bogád\, 7742\, Magyarország
CATEGORIES:Lakodalom
ATTACH;FMTTYPE=image/jpeg:https://www.antzenekar.com/wp-content/uploads/2021/09/ant-azzuroval-Jani-Norbi.jpg
END:VEVENT
BEGIN:VEVENT
DTSTART;VALUE=DATE:20240608
DTEND;VALUE=DATE:20240609
DTSTAMP:20260420T191645
CREATED:20231221T124045Z
LAST-MODIFIED:20231221T124045Z
UID:7634-1717804800-1717891199@www.antzenekar.com
SUMMARY:Lakodalom - Tác
DESCRIPTION:
URL:https://www.antzenekar.com/esemenyek/lakodalom-tac/
LOCATION:Tác\, Tác\, 8121\, Magyarország
CATEGORIES:Lakodalom
ATTACH;FMTTYPE=image/jpeg:https://www.antzenekar.com/wp-content/uploads/2022/09/A.N.T.-zenekar-1280-x550-02-1024x440-4-fo-szax-esTomi.jpg
END:VEVENT
BEGIN:VEVENT
DTSTART;VALUE=DATE:20240601
DTEND;VALUE=DATE:20240602
DTSTAMP:20260420T191645
CREATED:20240116T195906Z
LAST-MODIFIED:20240116T195906Z
UID:7674-1717200000-1717286399@www.antzenekar.com
SUMMARY:Lakodalom - Kecskemét
DESCRIPTION:
URL:https://www.antzenekar.com/esemenyek/lakodalom-kecskemet/
LOCATION:Kecskemét\, Kecskemét\, 6000\, Magyarország
CATEGORIES:Lakodalom
ATTACH;FMTTYPE=image/jpeg:https://www.antzenekar.com/wp-content/uploads/2020/11/A.N.T.-zenekar-1280-x550-02-1024x440-4-fo-szax.jpg
END:VEVENT
BEGIN:VEVENT
DTSTART;VALUE=DATE:20240525
DTEND;VALUE=DATE:20240526
DTSTAMP:20260420T191645
CREATED:20240118T185425Z
LAST-MODIFIED:20240118T185425Z
UID:7680-1716595200-1716681599@www.antzenekar.com
SUMMARY:Lakodalom - Biharnagybajom
DESCRIPTION:
URL:https://www.antzenekar.com/esemenyek/lakodalom-biharnagybajom/
LOCATION:Biharnagybajom\, Biharnagybajom\, 4172\, Magyarország
ATTACH;FMTTYPE=image/jpeg:https://www.antzenekar.com/wp-content/uploads/2020/11/A.N.T.-zenekar-1280-x550-02-1024x440-5-fo-szax-hegedu.jpg
END:VEVENT
BEGIN:VEVENT
DTSTART;VALUE=DATE:20240518
DTEND;VALUE=DATE:20240519
DTSTAMP:20260420T191645
CREATED:20230515T122939Z
LAST-MODIFIED:20230515T123653Z
UID:7510-1715990400-1716076799@www.antzenekar.com
SUMMARY:Lakodalom - Maroslele
DESCRIPTION:
URL:https://www.antzenekar.com/esemenyek/lakodalom-maroslele/
LOCATION:Maroslele\, Marsoslele\, 6921\, Magyarország
CATEGORIES:Lakodalom
ATTACH;FMTTYPE=image/jpeg:https://www.antzenekar.com/wp-content/uploads/2020/11/A.N.T.-zenekar-1280-x550-02-1024x440-4-fo-szax.jpg
END:VEVENT
BEGIN:VEVENT
DTSTART;TZID=Europe/Budapest:20240517T080000
DTEND;TZID=Europe/Budapest:20240517T170000
DTSTAMP:20260420T191645
CREATED:20240517T192754Z
LAST-MODIFIED:20240517T192754Z
UID:7863-1715932800-1715965200@www.antzenekar.com
SUMMARY:Illés nap - Temerin
DESCRIPTION:
URL:https://www.antzenekar.com/esemenyek/illes-nap-temerin/
CATEGORIES:Bál,Falunap,Koncert
ATTACH;FMTTYPE=image/jpeg:https://www.antzenekar.com/wp-content/uploads/2020/11/Temerin-1280-x550-1-1.jpg
END:VEVENT
BEGIN:VEVENT
DTSTART;TZID=Europe/Budapest:20240301T180000
DTEND;TZID=Europe/Budapest:20240302T040000
DTSTAMP:20260420T191645
CREATED:20240110T171014Z
LAST-MODIFIED:20240329T101344Z
UID:7657-1709316000-1709352000@www.antzenekar.com
SUMMARY:Óbudai egyetem bál - Budapest
DESCRIPTION:
URL:https://www.antzenekar.com/esemenyek/bal-budapest/
LOCATION:Budapest\, Budapest\, 1203\, Hungary
CATEGORIES:Bál
ATTACH;FMTTYPE=image/jpeg:https://www.antzenekar.com/wp-content/uploads/2020/11/A.N.T.-zenekar-1280-x550-02-1024x440-5-fo-szax-hegedu.jpg
END:VEVENT
BEGIN:VEVENT
DTSTART;TZID=Europe/Budapest:20240210T103000
DTEND;TZID=Europe/Budapest:20240210T120000
DTSTAMP:20260420T191645
CREATED:20240109T131141Z
LAST-MODIFIED:20240109T131619Z
UID:7647-1707561000-1707566400@www.antzenekar.com
SUMMARY:Böllérfesztivál - Murakeresztúr
DESCRIPTION:Mura – Menti Malacságok – X. Murakeresztúri böllérfesztivál \n \nRendezvény neve: Mura – Menti Malacságok – X. Murakeresztúri böllérfesztivál.\nHelyszíne: 8834 Murakeresztúr\, Kossuth Lajos út 14.-16. 1200 m2 fedett sátor.
URL:https://www.antzenekar.com/esemenyek/bollerfesztival-murakeresztur/
LOCATION:Murakeresztúr\, Kossuth Lajos út 14.-16.\, Murakeresztúr\, 8834\, Magyarország
CATEGORIES:Fesztivál
ATTACH;FMTTYPE=image/jpeg:https://www.antzenekar.com/wp-content/uploads/2023/03/A.N.T.-zenekar-1280-x550-02-1024x440-5-fo-szax-esTomi-komplett.jpg
END:VEVENT
BEGIN:VEVENT
DTSTART;VALUE=DATE:20231231
DTEND;VALUE=DATE:20240101
DTSTAMP:20260420T191645
CREATED:20230202T160435Z
LAST-MODIFIED:20230202T160435Z
UID:7289-1703980800-1704067199@www.antzenekar.com
SUMMARY:Szilveszteri Bál - Szentmihály
DESCRIPTION:Szilveszteri Bál – Szentmihályon\nAz A.N.T. zenekar adja a talpalávalót. Szeretettel várunk minden bulizni vágyót! Bulizzunk egy jót együtt!\nHelyszín: József Attila Magyar Művelődési Egyesület\, Kiss Ferenc utca 119\, Szentmihály 23202
URL:https://www.antzenekar.com/esemenyek/szilveszteri-bal-szentmihaly/
LOCATION:Szentmihály\, Szentmihály\, 23202\, Szerbia
CATEGORIES:Bál
ATTACH;FMTTYPE=image/jpeg:https://www.antzenekar.com/wp-content/uploads/2021/03/A.N.T.-zenekar-1280-x550-02-1024x440-5-fo-szax-hegedus.jpg
END:VEVENT
BEGIN:VEVENT
DTSTART;VALUE=DATE:20231202
DTEND;VALUE=DATE:20231203
DTSTAMP:20260420T191645
CREATED:20231009T133320Z
LAST-MODIFIED:20231009T133320Z
UID:7602-1701475200-1701561599@www.antzenekar.com
SUMMARY:Céges rendezvény - Mezőkövesd
DESCRIPTION:
URL:https://www.antzenekar.com/esemenyek/ceges-rendezveny-mezokovesd/
LOCATION:Mezőköved\, Mezőkövesd\, 3400\, Magyarország
CATEGORIES:Céges rendezvény
ATTACH;FMTTYPE=image/jpeg:https://www.antzenekar.com/wp-content/uploads/2023/03/A.N.T.-zenekar-1280-x550-02-1024x440-5-fo-szax-esTomi-komplett.jpg
END:VEVENT
BEGIN:VEVENT
DTSTART;VALUE=DATE:20231014
DTEND;VALUE=DATE:20231015
DTSTAMP:20260420T191645
CREATED:20230321T200530Z
LAST-MODIFIED:20230322T071826Z
UID:7338-1697241600-1697327999@www.antzenekar.com
SUMMARY:Lakodalom - Nógrád
DESCRIPTION:
URL:https://www.antzenekar.com/esemenyek/lakodalom-nograd/
LOCATION:Nógrád\, Nógrád\, 2642\, Magyarország
CATEGORIES:Lakodalom
ATTACH;FMTTYPE=image/jpeg:https://www.antzenekar.com/wp-content/uploads/2023/03/A.N.T.-zenekar-1280-x550-02-1024x440-5-fo-szax-esTomi-komplett.jpg
END:VEVENT
BEGIN:VEVENT
DTSTART;VALUE=DATE:20231007
DTEND;VALUE=DATE:20231008
DTSTAMP:20260420T191645
CREATED:20230321T110402Z
LAST-MODIFIED:20230321T110549Z
UID:7332-1696636800-1696723199@www.antzenekar.com
SUMMARY:Lakodalom - Újvidék
DESCRIPTION:
URL:https://www.antzenekar.com/esemenyek/lakodalom-ujvidek-2/
LOCATION:Újvidék\, Újvidék\, 21000\, Serbia
CATEGORIES:Lakodalom
ATTACH;FMTTYPE=image/jpeg:https://www.antzenekar.com/wp-content/uploads/2021/09/ant-azzuroval-Jani-Norbi.jpg
END:VEVENT
BEGIN:VEVENT
DTSTART;VALUE=DATE:20230916
DTEND;VALUE=DATE:20230917
DTSTAMP:20260420T191645
CREATED:20230310T114518Z
LAST-MODIFIED:20230310T114518Z
UID:7324-1694822400-1694908799@www.antzenekar.com
SUMMARY:Lakodalom - Csóka
DESCRIPTION:
URL:https://www.antzenekar.com/esemenyek/lakodalom-csoka/
LOCATION:Csóka\, 23320\, Serbia
CATEGORIES:Lakodalom
ATTACH;FMTTYPE=image/jpeg:https://www.antzenekar.com/wp-content/uploads/2020/11/A.N.T.-zenekar-1280-x550-02-1024x440-5-fo-szax-hegedu.jpg
END:VEVENT
BEGIN:VEVENT
DTSTART;VALUE=DATE:20230909
DTEND;VALUE=DATE:20230910
DTSTAMP:20260420T191645
CREATED:20230117T182309Z
LAST-MODIFIED:20230322T074248Z
UID:7284-1694217600-1694303999@www.antzenekar.com
SUMMARY:Lakodalom - Csongrád
DESCRIPTION:
URL:https://www.antzenekar.com/esemenyek/lakodalom-csongrad/
LOCATION:Csongrád\, Csongrád\, 6640\, Magyarország
CATEGORIES:Lakodalom
ATTACH;FMTTYPE=image/jpeg:https://www.antzenekar.com/wp-content/uploads/2023/03/A.N.T.-zenekar-1280-x550-02-1024x440-5-fo-szax-esTomi-komplett.jpg
END:VEVENT
BEGIN:VEVENT
DTSTART;VALUE=DATE:20230902
DTEND;VALUE=DATE:20230903
DTSTAMP:20260420T191645
CREATED:20220608T160128Z
LAST-MODIFIED:20220608T160128Z
UID:6985-1693612800-1693699199@www.antzenekar.com
SUMMARY:Lakodalom - Jászalsószentgyörgy
DESCRIPTION:
URL:https://www.antzenekar.com/esemenyek/lakodalom-jaszalsoszentgyorgy/
LOCATION:Jászalsószentgyörgy\, Jászalsószentgyörgy\, 5054\, Hungary
CATEGORIES:Lakodalom
ATTACH;FMTTYPE=image/jpeg:https://www.antzenekar.com/wp-content/uploads/2020/11/A.N.T.-zenekar-1280-x550-02-1024x440-4-fo-szax.jpg
END:VEVENT
BEGIN:VEVENT
DTSTART;VALUE=DATE:20230901
DTEND;VALUE=DATE:20230902
DTSTAMP:20260420T191645
CREATED:20220818T110840Z
LAST-MODIFIED:20220818T110840Z
UID:7129-1693526400-1693612799@www.antzenekar.com
SUMMARY:Lakodalom - Orfű
DESCRIPTION:
URL:https://www.antzenekar.com/esemenyek/lakodalom-orfu/
LOCATION:Orfű\, Orfű\, 7677\, Magyarország
CATEGORIES:Lakodalom
ATTACH;FMTTYPE=image/jpeg:https://www.antzenekar.com/wp-content/uploads/2020/11/A.N.T.-zenekar-1280-x550-02-1024x440-4-fo-szax.jpg
END:VEVENT
BEGIN:VEVENT
DTSTART;VALUE=DATE:20230819
DTEND;VALUE=DATE:20230821
DTSTAMP:20260420T191645
CREATED:20230227T194938Z
LAST-MODIFIED:20230810T092613Z
UID:7318-1692403200-1692575999@www.antzenekar.com
SUMMARY:Utcabál Hantos
DESCRIPTION:Szeretettel várunk minden érdeklődőt egy jó kis utcabálra!
URL:https://www.antzenekar.com/esemenyek/utcabal-hantos/
LOCATION:Hantos\, Hantos\, 2434\, Magyarország
CATEGORIES:Bál
ATTACH;FMTTYPE=image/jpeg:https://www.antzenekar.com/wp-content/uploads/2021/08/A.N.T.-zenekar-1280-x550-02-1024x440-6-fo-szax-hegedu-basszus.jpg
END:VEVENT
BEGIN:VEVENT
DTSTART;VALUE=DATE:20230805
DTEND;VALUE=DATE:20230806
DTSTAMP:20260420T191645
CREATED:20221024T125812Z
LAST-MODIFIED:20221024T125812Z
UID:7192-1691193600-1691279999@www.antzenekar.com
SUMMARY:Lakodalom - Dunaharaszti
DESCRIPTION:
URL:https://www.antzenekar.com/esemenyek/lakodalom-dunaharaszti/
LOCATION:Dunaharaszti\, Dunaharasztin\, 2330
CATEGORIES:Lakodalom
ATTACH;FMTTYPE=image/jpeg:https://www.antzenekar.com/wp-content/uploads/2020/11/A.N.T.-zenekar-1280-x550-02-1024x440-4-fo-szax.jpg
END:VEVENT
BEGIN:VEVENT
DTSTART;VALUE=DATE:20230708
DTEND;VALUE=DATE:20230709
DTSTAMP:20260420T191645
CREATED:20221024T144448Z
LAST-MODIFIED:20221024T145403Z
UID:7199-1688774400-1688860799@www.antzenekar.com
SUMMARY:Lakodalom Temerin
DESCRIPTION:
URL:https://www.antzenekar.com/esemenyek/lakodalom-temerin-2/
LOCATION:Temerin
CATEGORIES:Lakodalom
ATTACH;FMTTYPE=image/jpeg:https://www.antzenekar.com/wp-content/uploads/2021/08/A.N.T.-zenekar-1280-x550-02-1024x440-6-fo-szax-hegedu-basszus.jpg
END:VEVENT
END:VCALENDAR