BEGIN:VCALENDAR
VERSION:2.0
PRODID:-//A.N.T. zenekar - ECPv6.15.20//NONSGML v1.0//EN
CALSCALE:GREGORIAN
METHOD:PUBLISH
X-ORIGINAL-URL:https://www.antzenekar.com
X-WR-CALDESC:Események A.N.T. zenekar
REFRESH-INTERVAL;VALUE=DURATION:PT1H
X-Robots-Tag:noindex
X-PUBLISHED-TTL:PT1H
BEGIN:VTIMEZONE
TZID:Europe/Budapest
BEGIN:DAYLIGHT
TZOFFSETFROM:+0100
TZOFFSETTO:+0200
TZNAME:CEST
DTSTART:20200329T010000
END:DAYLIGHT
BEGIN:STANDARD
TZOFFSETFROM:+0200
TZOFFSETTO:+0100
TZNAME:CET
DTSTART:20201025T010000
END:STANDARD
BEGIN:DAYLIGHT
TZOFFSETFROM:+0100
TZOFFSETTO:+0200
TZNAME:CEST
DTSTART:20210328T010000
END:DAYLIGHT
BEGIN:STANDARD
TZOFFSETFROM:+0200
TZOFFSETTO:+0100
TZNAME:CET
DTSTART:20211031T010000
END:STANDARD
BEGIN:DAYLIGHT
TZOFFSETFROM:+0100
TZOFFSETTO:+0200
TZNAME:CEST
DTSTART:20220327T010000
END:DAYLIGHT
BEGIN:STANDARD
TZOFFSETFROM:+0200
TZOFFSETTO:+0100
TZNAME:CET
DTSTART:20221030T010000
END:STANDARD
BEGIN:DAYLIGHT
TZOFFSETFROM:+0100
TZOFFSETTO:+0200
TZNAME:CEST
DTSTART:20230326T010000
END:DAYLIGHT
BEGIN:STANDARD
TZOFFSETFROM:+0200
TZOFFSETTO:+0100
TZNAME:CET
DTSTART:20231029T010000
END:STANDARD
END:VTIMEZONE
BEGIN:VEVENT
DTSTART;VALUE=DATE:20220716
DTEND;VALUE=DATE:20220717
DTSTAMP:20260421T014756
CREATED:20210811T084929Z
LAST-MODIFIED:20210811T084929Z
UID:6320-1657929600-1658015999@www.antzenekar.com
SUMMARY:Lakodalom - Kiskőrös
DESCRIPTION:
URL:https://www.antzenekar.com/esemenyek/lakodalom-kiskoros/
LOCATION:Kiskőrös\, Kiskőrös\, 6200\, Hungary
CATEGORIES:Lakodalom
ATTACH;FMTTYPE=image/jpeg:https://www.antzenekar.com/wp-content/uploads/2020/11/A.N.T.-zenekar-1280-x550-02-1024x440-5-fo-szax-es-basszus.jpg
END:VEVENT
BEGIN:VEVENT
DTSTART;VALUE=DATE:20220625
DTEND;VALUE=DATE:20220626
DTSTAMP:20260421T014756
CREATED:20211025T121907Z
LAST-MODIFIED:20211025T121907Z
UID:6421-1656115200-1656201599@www.antzenekar.com
SUMMARY:Lakodalom - Lajosmizse
DESCRIPTION:
URL:https://www.antzenekar.com/esemenyek/lakodalom-lajosmizse/
LOCATION:Lajosmizse\, Lajosmizse\, 6050\, Hungary
CATEGORIES:Lakodalom
ATTACH;FMTTYPE=image/jpeg:https://www.antzenekar.com/wp-content/uploads/2020/11/A.N.T.-zenekar-1280-x550-02-1024x440-4-fo-4-hegedu.jpg
END:VEVENT
BEGIN:VEVENT
DTSTART;VALUE=DATE:20220617
DTEND;VALUE=DATE:20220618
DTSTAMP:20260421T014756
CREATED:20220118T204132Z
LAST-MODIFIED:20220118T204132Z
UID:6512-1655424000-1655510399@www.antzenekar.com
SUMMARY:Lakodalom - Szeged
DESCRIPTION:
URL:https://www.antzenekar.com/esemenyek/lakodalom-szeged/
LOCATION:Szeged\, Szeged\, 6724\, Hungary
CATEGORIES:Lakodalom
ATTACH;FMTTYPE=image/jpeg:https://www.antzenekar.com/wp-content/uploads/2020/11/A.N.T.-zenekar-1280-x550-02-1024x440-4-fo-4-hegedu.jpg
END:VEVENT
BEGIN:VEVENT
DTSTART;VALUE=DATE:20220610
DTEND;VALUE=DATE:20220611
DTSTAMP:20260421T014756
CREATED:20210519T082242Z
LAST-MODIFIED:20210528T080112Z
UID:6233-1654819200-1654905599@www.antzenekar.com
SUMMARY:Lakodalom Velence
DESCRIPTION:
URL:https://www.antzenekar.com/esemenyek/lakodalom-velence/
LOCATION:Velence\, Velence\, 2481\, Hungary
CATEGORIES:Lakodalom
ATTACH;FMTTYPE=image/jpeg:https://www.antzenekar.com/wp-content/uploads/2021/03/A.N.T.-zenekar-1280-x550-02-1024x440-5-fo-szax-hegedus.jpg
END:VEVENT
BEGIN:VEVENT
DTSTART;VALUE=DATE:20220528
DTEND;VALUE=DATE:20220529
DTSTAMP:20260421T014756
CREATED:20210221T112607Z
LAST-MODIFIED:20210221T112607Z
UID:6126-1653696000-1653782399@www.antzenekar.com
SUMMARY:Lakodalom - Baja
DESCRIPTION:
URL:https://www.antzenekar.com/esemenyek/lakodalom-baja/
LOCATION:Baja\, Baja\, 6500\, Hungary
CATEGORIES:Lakodalom
ATTACH;FMTTYPE=image/jpeg:https://www.antzenekar.com/wp-content/uploads/2020/11/A.N.T.-zenekar-1280-x550-.jpg
END:VEVENT
BEGIN:VEVENT
DTSTART;VALUE=DATE:20220430
DTEND;VALUE=DATE:20220501
DTSTAMP:20260421T014756
CREATED:20220114T081948Z
LAST-MODIFIED:20220114T081948Z
UID:6501-1651276800-1651363199@www.antzenekar.com
SUMMARY:Lakodalom -  Szentendre
DESCRIPTION:
URL:https://www.antzenekar.com/esemenyek/lakodalom-szentendre/
LOCATION:Szentendre\, Szentendre\, 2000\, Hungary
CATEGORIES:Lakodalom
ATTACH;FMTTYPE=image/jpeg:https://www.antzenekar.com/wp-content/uploads/2020/11/A.N.T.-zenekar-1280-x550-02-1024x440-4-fo-szax.jpg
END:VEVENT
BEGIN:VEVENT
DTSTART;VALUE=DATE:20211009
DTEND;VALUE=DATE:20211010
DTSTAMP:20260421T014756
CREATED:20210817T202300Z
LAST-MODIFIED:20210817T202300Z
UID:6328-1633737600-1633823999@www.antzenekar.com
SUMMARY:Lakodalom - Káty
DESCRIPTION:
URL:https://www.antzenekar.com/esemenyek/lakodalom-katy/
LOCATION:Káty\, 21241\, Káty\, Szerbia
CATEGORIES:Lakodalom
ATTACH;FMTTYPE=image/jpeg:https://www.antzenekar.com/wp-content/uploads/2020/11/A.N.T.-zenekar-1280-x550-02-1024x440-5-fo-szax-es-basszus.jpg
END:VEVENT
BEGIN:VEVENT
DTSTART;VALUE=DATE:20210807
DTEND;VALUE=DATE:20210808
DTSTAMP:20260421T014756
CREATED:20210423T060804Z
LAST-MODIFIED:20210423T060804Z
UID:6194-1628294400-1628380799@www.antzenekar.com
SUMMARY:Lakodalom - Palics
DESCRIPTION:
URL:https://www.antzenekar.com/esemenyek/lakodalom-palics/
LOCATION:Palics\, Palics\, 24413\, Szerbia
ATTACH;FMTTYPE=image/jpeg:https://www.antzenekar.com/wp-content/uploads/2020/11/A.N.T.-zenekar-1280-x550-02-.jpg
END:VEVENT
BEGIN:VEVENT
DTSTART;VALUE=DATE:20210731
DTEND;VALUE=DATE:20210801
DTSTAMP:20260421T014756
CREATED:20210318T102816Z
LAST-MODIFIED:20210318T103218Z
UID:6161-1627689600-1627775999@www.antzenekar.com
SUMMARY:Lakodalom - Topolya
DESCRIPTION:
URL:https://www.antzenekar.com/esemenyek/lakodalom-topolya/
LOCATION:Bačka Topola\, Bačka Topola\, ‎24300
CATEGORIES:Lakodalom
ATTACH;FMTTYPE=image/jpeg:https://www.antzenekar.com/wp-content/uploads/2021/03/A.N.T.-zenekar-1280-x550-02-1024x440-5-fo-szax-hegedus.jpg
END:VEVENT
BEGIN:VEVENT
DTSTART;VALUE=DATE:20210717
DTEND;VALUE=DATE:20210718
DTSTAMP:20260421T014756
CREATED:20210531T091637Z
LAST-MODIFIED:20210531T093124Z
UID:6265-1626480000-1626566399@www.antzenekar.com
SUMMARY:Lakodalom - Verseg
DESCRIPTION:
URL:https://www.antzenekar.com/esemenyek/lakodalom-verseg/
LOCATION:Verseg\, Verseg\, 2174\, Hungary
CATEGORIES:Lakodalom
ATTACH;FMTTYPE=image/jpeg:https://www.antzenekar.com/wp-content/uploads/2020/11/A.N.T.-zenekar-1280-x550-02-1024x440-4-fo-szax.jpg
END:VEVENT
BEGIN:VEVENT
DTSTART;VALUE=DATE:20210528
DTEND;VALUE=DATE:20210529
DTSTAMP:20260421T014756
CREATED:20210222T200025Z
LAST-MODIFIED:20210316T210238Z
UID:6134-1622160000-1622246399@www.antzenekar.com
SUMMARY:Lakodalom - Szárliget
DESCRIPTION:
URL:https://www.antzenekar.com/esemenyek/lakodalom-szarliget/
LOCATION:Szárliget\, Szárliget\, 2067\, Hungary
CATEGORIES:Lakodalom
ATTACH;FMTTYPE=image/jpeg:https://www.antzenekar.com/wp-content/uploads/2020/11/A.N.T.-zenekar-1280-x550-02-1024x440-4-fo-szax.jpg
END:VEVENT
END:VCALENDAR