BEGIN:VCALENDAR
VERSION:2.0
PRODID:-//A.N.T. zenekar - ECPv6.15.20//NONSGML v1.0//EN
CALSCALE:GREGORIAN
METHOD:PUBLISH
X-ORIGINAL-URL:https://www.antzenekar.com
X-WR-CALDESC:Események A.N.T. zenekar
REFRESH-INTERVAL;VALUE=DURATION:PT1H
X-Robots-Tag:noindex
X-PUBLISHED-TTL:PT1H
BEGIN:VTIMEZONE
TZID:Europe/Budapest
BEGIN:DAYLIGHT
TZOFFSETFROM:+0100
TZOFFSETTO:+0200
TZNAME:CEST
DTSTART:20230326T010000
END:DAYLIGHT
BEGIN:STANDARD
TZOFFSETFROM:+0200
TZOFFSETTO:+0100
TZNAME:CET
DTSTART:20231029T010000
END:STANDARD
BEGIN:DAYLIGHT
TZOFFSETFROM:+0100
TZOFFSETTO:+0200
TZNAME:CEST
DTSTART:20240331T010000
END:DAYLIGHT
BEGIN:STANDARD
TZOFFSETFROM:+0200
TZOFFSETTO:+0100
TZNAME:CET
DTSTART:20241027T010000
END:STANDARD
BEGIN:DAYLIGHT
TZOFFSETFROM:+0100
TZOFFSETTO:+0200
TZNAME:CEST
DTSTART:20250330T010000
END:DAYLIGHT
BEGIN:STANDARD
TZOFFSETFROM:+0200
TZOFFSETTO:+0100
TZNAME:CET
DTSTART:20251026T010000
END:STANDARD
BEGIN:DAYLIGHT
TZOFFSETFROM:+0100
TZOFFSETTO:+0200
TZNAME:CEST
DTSTART:20260329T010000
END:DAYLIGHT
BEGIN:STANDARD
TZOFFSETFROM:+0200
TZOFFSETTO:+0100
TZNAME:CET
DTSTART:20261025T010000
END:STANDARD
BEGIN:DAYLIGHT
TZOFFSETFROM:+0100
TZOFFSETTO:+0200
TZNAME:CEST
DTSTART:20270328T010000
END:DAYLIGHT
BEGIN:STANDARD
TZOFFSETFROM:+0200
TZOFFSETTO:+0100
TZNAME:CET
DTSTART:20271031T010000
END:STANDARD
END:VTIMEZONE
BEGIN:VEVENT
DTSTART;VALUE=DATE:20260221
DTEND;VALUE=DATE:20260222
DTSTAMP:20260420T130113
CREATED:20260109T205054Z
LAST-MODIFIED:20260121T093354Z
UID:8896-1771632000-1771718399@www.antzenekar.com
SUMMARY:Csárdásbál - Újvidék
DESCRIPTION:
URL:https://www.antzenekar.com/esemenyek/csardasbal-ujvidek/
LOCATION:Újvidék\, Újvidék\, 21000\, Serbia
CATEGORIES:Bál
ATTACH;FMTTYPE=image/jpeg:https://www.antzenekar.com/wp-content/uploads/2026/01/A.N.T.-zenekar-1280-x550-02-1024x440-5-fo-szax-esKanalas-Gobor-.jpg
END:VEVENT
BEGIN:VEVENT
DTSTART;TZID=Europe/Budapest:20260214T110000
DTEND;TZID=Europe/Budapest:20260214T180000
DTSTAMP:20260420T130113
CREATED:20260115T151055Z
LAST-MODIFIED:20260121T101422Z
UID:8922-1771066800-1771092000@www.antzenekar.com
SUMMARY:Abai Kolbásztöltőfesztivál
DESCRIPTION:
URL:https://www.antzenekar.com/esemenyek/abai-kolbasztoltofesztival/
LOCATION:Aba\, Aba\, 8127\, Hungary
CATEGORIES:Bál,Fesztivál
ATTACH;FMTTYPE=image/jpeg:https://www.antzenekar.com/wp-content/uploads/2026/01/A.N.T.-zenekar-1280-x550-02-1024x440-4-fo-szax-esAttila-es-Tomi-uj.jpg
END:VEVENT
BEGIN:VEVENT
DTSTART;TZID=Europe/Budapest:20251231T190000
DTEND;TZID=Europe/Budapest:20260101T040000
DTSTAMP:20260420T130113
CREATED:20250428T152540Z
LAST-MODIFIED:20251127T112437Z
UID:8366-1767207600-1767240000@www.antzenekar.com
SUMMARY:Szilveszteri bál 2026 - Jászalsószentgyörgy
DESCRIPTION: Szilveszteri Party 2025 Jászalsószentgyörgy – Itt kezdődik a buli! \n Készülj egy éjszakára\, ahol minden a jó hangulatról és a korlátlan élvezetről szól! \n 18:00 – Üdvözlőital és vendégvárás (hogy gyorsabban beinduljon a “szilveszteri üzemmód” ) \n 20:00 – Korlátlan Svédasztal (mert a diéta csak januárban kezdődik! ) \n Zene\, tánc\, meglepetések és óriási buli hajnalig! Minden ami egy tökéletes szilveszterhez kell! Légy velünk az év legnagyobb záróbuliján!  \nBővebb infó: +36 70 554 7245 vagy 36 70 567 4950
URL:https://www.antzenekar.com/esemenyek/szilveszteri-bal-jaszalsoszentgyorgy/
LOCATION:Jászalsószentgyörgy\, Jászalsószentgyörgy\, 5054\, Hungary
CATEGORIES:Bál
ATTACH;FMTTYPE=image/jpeg:https://www.antzenekar.com/wp-content/uploads/2020/11/A.N.T.-zenekar-1280-x550-02-1024x440-4-fo-szax.jpg
END:VEVENT
BEGIN:VEVENT
DTSTART;VALUE=DATE:20251227
DTEND;VALUE=DATE:20251228
DTSTAMP:20260420T130113
CREATED:20250825T041500Z
LAST-MODIFIED:20250825T041500Z
UID:8573-1766793600-1766879999@www.antzenekar.com
SUMMARY:Lakodalom - Temerin
DESCRIPTION:
URL:https://www.antzenekar.com/esemenyek/lakodalom-temerin-5/
LOCATION:Temerin
ATTACH;FMTTYPE=image/jpeg:https://www.antzenekar.com/wp-content/uploads/2025/08/collage02-new-e1756094973379.jpg
END:VEVENT
BEGIN:VEVENT
DTSTART;TZID=Europe/Budapest:20251115T210000
DTEND;TZID=Europe/Budapest:20251116T030000
DTSTAMP:20260420T130113
CREATED:20251110T094730Z
LAST-MODIFIED:20251110T094907Z
UID:8796-1763240400-1763262000@www.antzenekar.com
SUMMARY:Új bor Ünnepe - Szentes
DESCRIPTION:🍷 ÚJBOR ÜNNEPE A CENTRUMBAN 🍷\n2025. november 15.\, szombat – 21:00🎶 LAGZI PARTY az A.N.T. Zenekarral \nA szervezők szeretettel várnak mindenkit egy különleges\, zenés-táncos estére a Centrum sörözőbe\, ahol az újborok és a jó hangulat játsszák a főszerepet. \nAz est folyamán a vendégek megkóstolhatják az idei év legkiválóbb újborait\, miközben az A.N.T. Zenekar gondoskodik a felejthetetlen lagzis hangulatról. 🍇 \n💫 Lagzi Party Szentesen – ahol a lagzi sosem ér véget!🎶 Tánc\, zene\, jókedv és fergeteges hangulat november 15-én a Centrum sörözőben!📍 Centrum söröző\, Szentes – Rákóczi F. u. 15⏰ Kezdés: 21:00 \n\nhttps://www.facebook.com/profile.php?id=100063716851056\nhttps://www.facebook.com/profile.php?id=100063716851056\nhttps://www.youtube.com/@antzenekar/videos
URL:https://www.antzenekar.com/esemenyek/uj-bor-unnepe-szentes/
LOCATION:Szentes\, Szentes\, 6600\, Hungary
CATEGORIES:Bál,Zenés rendezvény
ATTACH;FMTTYPE=image/jpeg:https://www.antzenekar.com/wp-content/uploads/2020/11/A.N.T.-zenekar-1280-x550-02-1024x440-4-fo-szax.jpg
END:VEVENT
BEGIN:VEVENT
DTSTART;VALUE=DATE:20251011
DTEND;VALUE=DATE:20251012
DTSTAMP:20260420T130113
CREATED:20250418T101824Z
LAST-MODIFIED:20250604T065059Z
UID:8335-1760140800-1760227199@www.antzenekar.com
SUMMARY:Lakodalom - Óbecse
DESCRIPTION:
URL:https://www.antzenekar.com/esemenyek/lakodalom-obecse-2/
LOCATION:Óbecse\, Óbecse\, 21220\, Szerbia
CATEGORIES:Lakodalom
ATTACH;FMTTYPE=image/jpeg:https://www.antzenekar.com/wp-content/uploads/2025/06/A.N.T.-zenekar-1280-x550-02-1024x440-6-fo-szax-esKanalas-Jozsi-Jani-i-uj.jpg
END:VEVENT
BEGIN:VEVENT
DTSTART;VALUE=DATE:20251004
DTEND;VALUE=DATE:20251005
DTSTAMP:20260420T130113
CREATED:20250105T140823Z
LAST-MODIFIED:20250418T140940Z
UID:8179-1759536000-1759622399@www.antzenekar.com
SUMMARY:Lakodalom - Lajosmizse
DESCRIPTION:
URL:https://www.antzenekar.com/esemenyek/lakodalom-lajosmizse-2/
LOCATION:Lajosmizse\, Lajosmizse\, 6050\, Hungary
CATEGORIES:Lakodalom
ATTACH;FMTTYPE=image/jpeg:https://www.antzenekar.com/wp-content/uploads/2025/01/A.N.T.-zenekar-1280-x550-02-1024x440-5-fo-szax-esKanalas-es-Tomi-uj.jpg
END:VEVENT
BEGIN:VEVENT
DTSTART;VALUE=DATE:20250927
DTEND;VALUE=DATE:20250928
DTSTAMP:20260420T130113
CREATED:20240916T120511Z
LAST-MODIFIED:20240916T120511Z
UID:8066-1758931200-1759017599@www.antzenekar.com
SUMMARY:Lakodalom - Kondoros
DESCRIPTION:
URL:https://www.antzenekar.com/esemenyek/lakodalom-kondoros/
LOCATION:Kondoros\, Kondoros\, 5553\, Hungary
CATEGORIES:Lakodalom
ATTACH;FMTTYPE=image/jpeg:https://www.antzenekar.com/wp-content/uploads/2020/11/A.N.T.-zenekar-1280-x550-02-1024x440-4-fo-szax.jpg
END:VEVENT
BEGIN:VEVENT
DTSTART;VALUE=DATE:20250823
DTEND;VALUE=DATE:20250824
DTSTAMP:20260420T130113
CREATED:20240414T183058Z
LAST-MODIFIED:20240414T183058Z
UID:7829-1755907200-1755993599@www.antzenekar.com
SUMMARY:Lakodalom - Sárospatak
DESCRIPTION:
URL:https://www.antzenekar.com/esemenyek/lakodalom-sarospatak/
LOCATION:Sárospatak\, 3944\, Magyarország
CATEGORIES:Lakodalom
ATTACH;FMTTYPE=image/jpeg:https://www.antzenekar.com/wp-content/uploads/2024/04/A.N.T.-zenekar-Azuro-1280-x550-02-1024x440-6-fo-szax-hegedu-.jpg
END:VEVENT
BEGIN:VEVENT
DTSTART;VALUE=DATE:20250727
DTEND;VALUE=DATE:20250728
DTSTAMP:20260420T130114
CREATED:20250724T115056Z
LAST-MODIFIED:20250724T115056Z
UID:8451-1753574400-1753660799@www.antzenekar.com
SUMMARY:Születésnap - Temerin
DESCRIPTION:
URL:https://www.antzenekar.com/esemenyek/szuletesnap-temerin/
LOCATION:Temerin
CATEGORIES:Házassági évforduló,Születésnap
ATTACH;FMTTYPE=image/jpeg:https://www.antzenekar.com/wp-content/uploads/2025/06/A.N.T.-zenekar-1280-x550-02-1024x440-3-fo-szax-esKanalas.jpg
END:VEVENT
BEGIN:VEVENT
DTSTART;VALUE=DATE:20250726
DTEND;VALUE=DATE:20250727
DTSTAMP:20260420T130114
CREATED:20250328T122237Z
LAST-MODIFIED:20250328T122853Z
UID:8260-1753488000-1753574399@www.antzenekar.com
SUMMARY:Lakodalom - Tatárszentgyörgy
DESCRIPTION:
URL:https://www.antzenekar.com/esemenyek/lakodalom-tatarszentgyorgy/
LOCATION:Tatárszentgyörgy\, Tatárszentgyörgy\, 2375\, Hungary
ATTACH;FMTTYPE=image/jpeg:https://www.antzenekar.com/wp-content/uploads/2020/11/A.N.T.-zenekar-1280-x550-02-1024x440-4-fo-szax.jpg
END:VEVENT
BEGIN:VEVENT
DTSTART;VALUE=DATE:20250705
DTEND;VALUE=DATE:20250706
DTSTAMP:20260420T130114
CREATED:20240924T131849Z
LAST-MODIFIED:20240924T131849Z
UID:8075-1751673600-1751759999@www.antzenekar.com
SUMMARY:Lakodalom -Sobor
DESCRIPTION:
URL:https://www.antzenekar.com/esemenyek/lakodalom-sobor/
LOCATION:Sobor\, Sobor\, 9315\, Hungary
CATEGORIES:Lakodalom
ATTACH;FMTTYPE=image/jpeg:https://www.antzenekar.com/wp-content/uploads/2020/11/A.N.T.-zenekar-1280-x550-02-1024x440-4-fo-szax.jpg
END:VEVENT
BEGIN:VEVENT
DTSTART;VALUE=DATE:20250628
DTEND;VALUE=DATE:20250629
DTSTAMP:20260420T130114
CREATED:20241026T155901Z
LAST-MODIFIED:20241026T155901Z
UID:8123-1751068800-1751155199@www.antzenekar.com
SUMMARY:Lakodalom - Pécs
DESCRIPTION:
URL:https://www.antzenekar.com/esemenyek/lakodalom-pecs/
LOCATION:Pécs\, Pécs\, 7600\, Hungary
CATEGORIES:Lakodalom
ATTACH;FMTTYPE=image/jpeg:https://www.antzenekar.com/wp-content/uploads/2021/09/ant-azzuroval-Jani-Norbi.jpg
END:VEVENT
BEGIN:VEVENT
DTSTART;VALUE=DATE:20250621
DTEND;VALUE=DATE:20250622
DTSTAMP:20260420T130114
CREATED:20241011T143004Z
LAST-MODIFIED:20241011T143004Z
UID:8086-1750464000-1750550399@www.antzenekar.com
SUMMARY:Lakodalom - Baja
DESCRIPTION:
URL:https://www.antzenekar.com/esemenyek/lakodalom-baja-3/
LOCATION:Baja\, Baja\, 6500\, Hungary
CATEGORIES:Lakodalom
ATTACH;FMTTYPE=image/jpeg:https://www.antzenekar.com/wp-content/uploads/2020/11/A.N.T.-zenekar-1280-x550-02-1024x440-5-fo-szax-hegedu.jpg
END:VEVENT
BEGIN:VEVENT
DTSTART;VALUE=DATE:20250614
DTEND;VALUE=DATE:20250615
DTSTAMP:20260420T130114
CREATED:20241015T191336Z
LAST-MODIFIED:20241015T191336Z
UID:8091-1749859200-1749945599@www.antzenekar.com
SUMMARY:Lakodalom - Temerin
DESCRIPTION:
URL:https://www.antzenekar.com/esemenyek/lakodalom-temerin-4/
LOCATION:Temerin
CATEGORIES:Lakodalom
ATTACH;FMTTYPE=image/jpeg:https://www.antzenekar.com/wp-content/uploads/2021/08/A.N.T.-zenekar-1280-x550-02-1024x440-6-fo-szax-hegedu-basszus.jpg
END:VEVENT
BEGIN:VEVENT
DTSTART;VALUE=DATE:20250523
DTEND;VALUE=DATE:20250524
DTSTAMP:20260420T130114
CREATED:20241021T113446Z
LAST-MODIFIED:20241021T114203Z
UID:8110-1747958400-1748044799@www.antzenekar.com
SUMMARY:Lakodalom - Inárcs
DESCRIPTION:
URL:https://www.antzenekar.com/esemenyek/lakodalom-inarcs/
LOCATION:Inárcs\, Inárcs\, 2365\, Hungary
CATEGORIES:Lakodalom
ATTACH;FMTTYPE=image/jpeg:https://www.antzenekar.com/wp-content/uploads/2021/09/ant-azzuroval-Jani-Norbi.jpg
END:VEVENT
BEGIN:VEVENT
DTSTART;VALUE=DATE:20250426
DTEND;VALUE=DATE:20250427
DTSTAMP:20260420T130114
CREATED:20240916T115511Z
LAST-MODIFIED:20240916T115511Z
UID:8061-1745625600-1745711999@www.antzenekar.com
SUMMARY:Lakodalom - Szentpéterszeg
DESCRIPTION:
URL:https://www.antzenekar.com/esemenyek/lakodalom-szentpeterszeg/
LOCATION:Szentpéterszeg\, Szentpéterszeg\, 4121\, Hungary
CATEGORIES:Lakodalom
ATTACH;FMTTYPE=image/jpeg:https://www.antzenekar.com/wp-content/uploads/2020/11/A.N.T.-zenekar-1280-x550-02-1024x440-5-fo-szax-hegedu.jpg
END:VEVENT
BEGIN:VEVENT
DTSTART;VALUE=DATE:20250412
DTEND;VALUE=DATE:20250413
DTSTAMP:20260420T130114
CREATED:20241029T155232Z
LAST-MODIFIED:20241029T155232Z
UID:8130-1744416000-1744502399@www.antzenekar.com
SUMMARY:Lakodalom - Pélmonostor
DESCRIPTION:
URL:https://www.antzenekar.com/esemenyek/lakodalom-pelmonostor/
LOCATION:Pélmonostor\, Pélmonostor\, 31300\, Croatia (Local Name: Hrvatska)
CATEGORIES:Lakodalom
ATTACH;FMTTYPE=image/jpeg:https://www.antzenekar.com/wp-content/uploads/2020/11/A.N.T.-zenekar-1280-x550-02-1024x440-5-fo-szax-hegedu.jpg
END:VEVENT
BEGIN:VEVENT
DTSTART;VALUE=DATE:20250405
DTEND;VALUE=DATE:20250406
DTSTAMP:20260420T130114
CREATED:20241223T094325Z
LAST-MODIFIED:20241223T095323Z
UID:8168-1743811200-1743897599@www.antzenekar.com
SUMMARY:Bál - Pilismarót
DESCRIPTION:
URL:https://www.antzenekar.com/esemenyek/bal-pilismarot/
LOCATION:Pilismarót\, Pilismarót\, 2028\, Hungary
CATEGORIES:Bál
ATTACH;FMTTYPE=image/jpeg:https://www.antzenekar.com/wp-content/uploads/2024/11/A.N.T.-zenekar-1280-x550-02-1024x440-4-fo-szax-esKanalas-01.jpg
END:VEVENT
BEGIN:VEVENT
DTSTART;VALUE=DATE:20250329
DTEND;VALUE=DATE:20250330
DTSTAMP:20260420T130114
CREATED:20241123T171927Z
LAST-MODIFIED:20241123T171927Z
UID:8150-1743206400-1743292799@www.antzenekar.com
SUMMARY:Lakodalom - Tapolca
DESCRIPTION:
URL:https://www.antzenekar.com/esemenyek/lakodalom-tapolca/
LOCATION:Tapolca\, Tapolca\, 8300\, Hungary
CATEGORIES:Lakodalom
ATTACH;FMTTYPE=image/jpeg:https://www.antzenekar.com/wp-content/uploads/2024/11/A.N.T.-zenekar-1280-x550-02-1024x440-4-fo-szax-esKanalas-01.jpg
END:VEVENT
BEGIN:VEVENT
DTSTART;VALUE=DATE:20241231
DTEND;VALUE=DATE:20250101
DTSTAMP:20260420T130114
CREATED:20240308T122818Z
LAST-MODIFIED:20240308T124027Z
UID:7750-1735603200-1735689599@www.antzenekar.com
SUMMARY:Szilveszteri bál - Szentmihály
DESCRIPTION:Ez a bál egy nyitott esemény\, a szervezők és mi jó magunk is szívesen várunk minden érdeklődőt! \nBulizzunk egy jót együtt az év utolsó napján!
URL:https://www.antzenekar.com/esemenyek/szilveszteri-bal-szentmihaly-2/
LOCATION:Szentmihály\, Szentmihály\, 23202\, Szerbia
CATEGORIES:Bál
ATTACH;FMTTYPE=image/jpeg:https://www.antzenekar.com/wp-content/uploads/2021/03/A.N.T.-zenekar-1280-x550-02-1024x440-5-fo-szax-hegedus.jpg
END:VEVENT
BEGIN:VEVENT
DTSTART;VALUE=DATE:20241019
DTEND;VALUE=DATE:20241020
DTSTAMP:20260420T130114
CREATED:20240822T125210Z
LAST-MODIFIED:20240822T125210Z
UID:8049-1729296000-1729382399@www.antzenekar.com
SUMMARY:Lakodalom - Dány
DESCRIPTION:
URL:https://www.antzenekar.com/esemenyek/lakodalom-dany/
LOCATION:Dány\, Dány\, 2118\, Magyarország
CATEGORIES:Lakodalom
ATTACH;FMTTYPE=image/jpeg:https://www.antzenekar.com/wp-content/uploads/2020/11/A.N.T.-zenekar-1280-x550-02-1024x440-4-fo-szax.jpg
END:VEVENT
BEGIN:VEVENT
DTSTART;VALUE=DATE:20241012
DTEND;VALUE=DATE:20241013
DTSTAMP:20260420T130114
CREATED:20240429T131033Z
LAST-MODIFIED:20240429T131033Z
UID:7845-1728691200-1728777599@www.antzenekar.com
SUMMARY:Lakodalom - Szabadka
DESCRIPTION:
URL:https://www.antzenekar.com/esemenyek/lakodalom-szabadka/
LOCATION:Szabadka\, 24000\, Szerbia
CATEGORIES:Lakodalom
ATTACH;FMTTYPE=image/jpeg:https://www.antzenekar.com/wp-content/uploads/2020/11/A.N.T.-zenekar-1280-x550-02-1024x440-5-fo-szax-hegedu.jpg
END:VEVENT
BEGIN:VEVENT
DTSTART;VALUE=DATE:20240908
DTEND;VALUE=DATE:20240909
DTSTAMP:20260420T130114
CREATED:20240726T134453Z
LAST-MODIFIED:20240726T134453Z
UID:8013-1725753600-1725839999@www.antzenekar.com
SUMMARY:Lakodalom - Kakucs
DESCRIPTION:
URL:https://www.antzenekar.com/esemenyek/lakodalom-kakucs/
LOCATION:Kakucs\, 2366\, Magyarország
CATEGORIES:Lakodalom
ATTACH;FMTTYPE=image/jpeg:https://www.antzenekar.com/wp-content/uploads/2024/04/A.N.T.-zenekar-Azuro-1280-x550-02-1024x440-6-fo-szax-hegedu-.jpg
END:VEVENT
BEGIN:VEVENT
DTSTART;VALUE=DATE:20240907
DTEND;VALUE=DATE:20240908
DTSTAMP:20260420T130114
CREATED:20240313T171742Z
LAST-MODIFIED:20240322T160913Z
UID:7760-1725667200-1725753599@www.antzenekar.com
SUMMARY:Lakodalom - Tata
DESCRIPTION:
URL:https://www.antzenekar.com/esemenyek/lakodalom-tata/
LOCATION:Tata\, Tata\, 2890\, Magyarország
CATEGORIES:Lakodalom
ATTACH;FMTTYPE=image/jpeg:https://www.antzenekar.com/wp-content/uploads/2021/09/ant-azzuroval-Jani-Norbi.jpg
END:VEVENT
BEGIN:VEVENT
DTSTART;VALUE=DATE:20240803
DTEND;VALUE=DATE:20240804
DTSTAMP:20260420T130114
CREATED:20230829T212311Z
LAST-MODIFIED:20230829T212311Z
UID:7576-1722643200-1722729599@www.antzenekar.com
SUMMARY:Lakodalom - Kisújszállás
DESCRIPTION:
URL:https://www.antzenekar.com/esemenyek/lakodalom-kisujszallas/
LOCATION:Kisújszállás\, Kisújszállás\, 5310\, Magyarország
CATEGORIES:Lakodalom
ATTACH;FMTTYPE=image/jpeg:https://www.antzenekar.com/wp-content/uploads/2021/09/ant-azzuroval-Jani-Norbi.jpg
END:VEVENT
BEGIN:VEVENT
DTSTART;TZID=Europe/Budapest:20240720T200000
DTEND;TZID=Europe/Budapest:20240721T030000
DTSTAMP:20260420T130114
CREATED:20240517T193947Z
LAST-MODIFIED:20240707T080537Z
UID:7866-1721505600-1721530800@www.antzenekar.com
SUMMARY:Illés nap Temerin - Zenés\, táncos rendezvény - Bál
DESCRIPTION:Illés nap Temerin – Zenés\, táncos rendezvény – Bál \nIdőpont: 2024. Július 20.\nKezdés: 20:00\nVége: 03:00\nHelyszín: Vásártér – Temerin\nCím: Breza 4\, Temerin\, Szerbia\nhttps://www.antzenekar.com \nEsemény a Facebookon \nhttps://www.youtube.com/@antzenekar/videos \nA temeriniek 171 éve tettek fogadalmat az Illés-nap megünneplésére\, amelynek jelentősége az itt élő magyarság nyelvi\, egyházi és kulturális hagyományainak megőrizésében rejlik.\nA temeriniek fogadalmának története az 1848-49-es magyar szabadságharcig nyúlik vissza. A forradalom után visszatérő temerini lakosság nehezen tudta újraindítani a termelést a parlagon maradt földeken. Emellett dögvész is sújtotta akkoriban a települést\, és rengeteg háziállat veszett oda. 1853. július 19-én nagy vihar verte el a gabonát Temerin határában. Ekkor tettek fogadalmat a falu lakói. \nEz egy nyílt rendezvény\, a szervezők és mi is mindenkit szeretettel várunk. Bulizzunk egy jót együtt! 🙂
URL:https://www.antzenekar.com/esemenyek/illes-nap/
LOCATION:Temerin
CATEGORIES:Bál,Falunap,Koncert
ATTACH;FMTTYPE=image/jpeg:https://www.antzenekar.com/wp-content/uploads/2024/05/A.N.T.-zenekar-1280-x550-02-1024x440-5-fo-szax-Kanalas.jpg
END:VEVENT
BEGIN:VEVENT
DTSTART;VALUE=DATE:20240629
DTEND;VALUE=DATE:20240630
DTSTAMP:20260420T130114
CREATED:20230728T075545Z
LAST-MODIFIED:20230728T080519Z
UID:7557-1719619200-1719705599@www.antzenekar.com
SUMMARY:Lakodalom - Bogád
DESCRIPTION:
URL:https://www.antzenekar.com/esemenyek/lakodalom-bogad/
LOCATION:Bogád\, Bogád\, 7742\, Magyarország
CATEGORIES:Lakodalom
ATTACH;FMTTYPE=image/jpeg:https://www.antzenekar.com/wp-content/uploads/2021/09/ant-azzuroval-Jani-Norbi.jpg
END:VEVENT
BEGIN:VEVENT
DTSTART;VALUE=DATE:20240601
DTEND;VALUE=DATE:20240602
DTSTAMP:20260420T130114
CREATED:20240116T195906Z
LAST-MODIFIED:20240116T195906Z
UID:7674-1717200000-1717286399@www.antzenekar.com
SUMMARY:Lakodalom - Kecskemét
DESCRIPTION:
URL:https://www.antzenekar.com/esemenyek/lakodalom-kecskemet/
LOCATION:Kecskemét\, Kecskemét\, 6000\, Magyarország
CATEGORIES:Lakodalom
ATTACH;FMTTYPE=image/jpeg:https://www.antzenekar.com/wp-content/uploads/2020/11/A.N.T.-zenekar-1280-x550-02-1024x440-4-fo-szax.jpg
END:VEVENT
BEGIN:VEVENT
DTSTART;TZID=Europe/Budapest:20240517T080000
DTEND;TZID=Europe/Budapest:20240517T170000
DTSTAMP:20260420T130114
CREATED:20240517T192754Z
LAST-MODIFIED:20240517T192754Z
UID:7863-1715932800-1715965200@www.antzenekar.com
SUMMARY:Illés nap - Temerin
DESCRIPTION:
URL:https://www.antzenekar.com/esemenyek/illes-nap-temerin/
CATEGORIES:Bál,Falunap,Koncert
ATTACH;FMTTYPE=image/jpeg:https://www.antzenekar.com/wp-content/uploads/2020/11/Temerin-1280-x550-1-1.jpg
END:VEVENT
END:VCALENDAR