BEGIN:VCALENDAR
VERSION:2.0
PRODID:-//A.N.T. zenekar - ECPv6.15.20//NONSGML v1.0//EN
CALSCALE:GREGORIAN
METHOD:PUBLISH
X-ORIGINAL-URL:https://www.antzenekar.com
X-WR-CALDESC:Események A.N.T. zenekar
REFRESH-INTERVAL;VALUE=DURATION:PT1H
X-Robots-Tag:noindex
X-PUBLISHED-TTL:PT1H
BEGIN:VTIMEZONE
TZID:UTC
BEGIN:STANDARD
TZOFFSETFROM:+0000
TZOFFSETTO:+0000
TZNAME:UTC
DTSTART:20220101T000000
END:STANDARD
END:VTIMEZONE
BEGIN:VEVENT
DTSTART;VALUE=DATE:20230630
DTEND;VALUE=DATE:20230701
DTSTAMP:20260421T045812
CREATED:20230221T154913Z
LAST-MODIFIED:20230221T154913Z
UID:7305-1688083200-1688169599@www.antzenekar.com
SUMMARY:Lakodalom - Balatonvilágos
DESCRIPTION:
URL:https://www.antzenekar.com/esemenyek/lakodalom-balatonvilagos/
LOCATION:Balatonvilágos\, Balatonvilágos\, 8171\, Magyarország
CATEGORIES:Lakodalom
ATTACH;FMTTYPE=image/jpeg:https://www.antzenekar.com/wp-content/uploads/2022/09/A.N.T.-zenekar-1280-x550-02-1024x440-4-fo-szax-esTomi.jpg
END:VEVENT
END:VCALENDAR