BEGIN:VCALENDAR
VERSION:2.0
PRODID:-//A.N.T. zenekar - ECPv6.15.20//NONSGML v1.0//EN
CALSCALE:GREGORIAN
METHOD:PUBLISH
X-WR-CALNAME:A.N.T. zenekar
X-ORIGINAL-URL:https://www.antzenekar.com
X-WR-CALDESC:Események A.N.T. zenekar
REFRESH-INTERVAL;VALUE=DURATION:PT1H
X-Robots-Tag:noindex
X-PUBLISHED-TTL:PT1H
BEGIN:VTIMEZONE
TZID:Europe/Budapest
BEGIN:DAYLIGHT
TZOFFSETFROM:+0100
TZOFFSETTO:+0200
TZNAME:CEST
DTSTART:20250330T010000
END:DAYLIGHT
BEGIN:STANDARD
TZOFFSETFROM:+0200
TZOFFSETTO:+0100
TZNAME:CET
DTSTART:20251026T010000
END:STANDARD
BEGIN:DAYLIGHT
TZOFFSETFROM:+0100
TZOFFSETTO:+0200
TZNAME:CEST
DTSTART:20260329T010000
END:DAYLIGHT
BEGIN:STANDARD
TZOFFSETFROM:+0200
TZOFFSETTO:+0100
TZNAME:CET
DTSTART:20261025T010000
END:STANDARD
BEGIN:DAYLIGHT
TZOFFSETFROM:+0100
TZOFFSETTO:+0200
TZNAME:CEST
DTSTART:20270328T010000
END:DAYLIGHT
BEGIN:STANDARD
TZOFFSETFROM:+0200
TZOFFSETTO:+0100
TZNAME:CET
DTSTART:20271031T010000
END:STANDARD
BEGIN:DAYLIGHT
TZOFFSETFROM:+0100
TZOFFSETTO:+0200
TZNAME:CEST
DTSTART:20280326T010000
END:DAYLIGHT
BEGIN:STANDARD
TZOFFSETFROM:+0200
TZOFFSETTO:+0100
TZNAME:CET
DTSTART:20281029T010000
END:STANDARD
END:VTIMEZONE
BEGIN:VEVENT
DTSTART;VALUE=DATE:20260502
DTEND;VALUE=DATE:20260503
DTSTAMP:20260420T101635
CREATED:20251030T193646Z
LAST-MODIFIED:20251030T193646Z
UID:8787-1777680000-1777766399@www.antzenekar.com
SUMMARY:Lakodalom - Békéscsaba
DESCRIPTION:
URL:https://www.antzenekar.com/esemenyek/lakodalom-bekescsaba/
LOCATION:Békéscsaba\, 5600\, Hungary
CATEGORIES:Lakodalom
ATTACH;FMTTYPE=image/jpeg:https://www.antzenekar.com/wp-content/uploads/2025/10/A.N.T.-zenekar-1280-x550-02-1024x440-5-fo-szax-es-Attila-JozsiZoli-i-uj.jpg
END:VEVENT
BEGIN:VEVENT
DTSTART;VALUE=DATE:20260606
DTEND;VALUE=DATE:20260607
DTSTAMP:20260420T101635
CREATED:20250330T181739Z
LAST-MODIFIED:20250418T140544Z
UID:8292-1780704000-1780790399@www.antzenekar.com
SUMMARY:Lakodalom - Székesfehérvár
DESCRIPTION:
URL:https://www.antzenekar.com/esemenyek/lakodalom-szekesfehervar/
LOCATION:Székesfehérvár\, Székesfehérvár\, 8000\, Magyarország
CATEGORIES:Lakodalom
ATTACH;FMTTYPE=image/jpeg:https://www.antzenekar.com/wp-content/uploads/2025/03/A.N.T.-zenekar-1280-x550-02-1024x440-6-fo-szax-esKanalasJozsi-es-basszusgita-uj.jpg
END:VEVENT
BEGIN:VEVENT
DTSTART;VALUE=DATE:20260613
DTEND;VALUE=DATE:20260614
DTSTAMP:20260420T101635
CREATED:20260318T191525Z
LAST-MODIFIED:20260318T191525Z
UID:9025-1781308800-1781395199@www.antzenekar.com
SUMMARY:Családi rendezvény - Ludas
DESCRIPTION:A.N.T. zenekar esküvőre – bálra – céges rendezvényekre – falunapara\, családi rendezvényekre. Széles repertoárral\, profi felszereléssel.
URL:https://www.antzenekar.com/esemenyek/csaladi-rendezveny-ludas/
LOCATION:Ludas\, Ludas\, 24418\, Serbia
CATEGORIES:CSaládi rendezvény,Esküvő,Keresztelő,Születésnap
ATTACH;FMTTYPE=image/jpeg:https://www.antzenekar.com/wp-content/uploads/2026/02/A.N.T.-zenekar-1280-x550-02-1024x440-4-fo-szax-es-Zoli-Kanalas.jpg
END:VEVENT
BEGIN:VEVENT
DTSTART;VALUE=DATE:20260620
DTEND;VALUE=DATE:20260621
DTSTAMP:20260420T101635
CREATED:20250415T124722Z
LAST-MODIFIED:20250418T140444Z
UID:8316-1781913600-1781999999@www.antzenekar.com
SUMMARY:Lakodalom - Bócsa
DESCRIPTION:
URL:https://www.antzenekar.com/esemenyek/lakodalom-bocsa/
LOCATION:Bócsa\, Bócsa\, 6235\, Hungary
CATEGORIES:Lakodalom
ATTACH;FMTTYPE=image/jpeg:https://www.antzenekar.com/wp-content/uploads/2025/04/A.N.T.-zenekar-1280-x550-02-1024x440-4-fo-szax-esKanalas-i-uj-teljes.jpg
END:VEVENT
BEGIN:VEVENT
DTSTART;VALUE=DATE:20260718
DTEND;VALUE=DATE:20260719
DTSTAMP:20260420T101635
CREATED:20250813T145148Z
LAST-MODIFIED:20250813T145148Z
UID:8563-1784332800-1784419199@www.antzenekar.com
SUMMARY:Lakodalom - Verbász
DESCRIPTION:
URL:https://www.antzenekar.com/esemenyek/lakodalom-verbasz/
LOCATION:Verbász\, Verbász\, 21460\, Serbia
CATEGORIES:Lakodalom
ATTACH;FMTTYPE=image/jpeg:https://www.antzenekar.com/wp-content/uploads/2025/08/A.N.T.-zenekar-1280-x550-02-1024x440-6-fo-szax-esKanalasJozsi-Zoli-es-basszusgita-uj.jpg
END:VEVENT
BEGIN:VEVENT
DTSTART;VALUE=DATE:20260814
DTEND;VALUE=DATE:20260815
DTSTAMP:20260420T101635
CREATED:20251005T132933Z
LAST-MODIFIED:20251005T132933Z
UID:8764-1786665600-1786751999@www.antzenekar.com
SUMMARY:Lakodalom - Zenta
DESCRIPTION:
URL:https://www.antzenekar.com/esemenyek/lakodalom-zenta/
LOCATION:Zenta\, Zenta\, 2400\, Serbia
CATEGORIES:Lakodalom
ATTACH;FMTTYPE=image/jpeg:https://www.antzenekar.com/wp-content/uploads/2025/08/collage02-new-e1756094973379.jpg
END:VEVENT
BEGIN:VEVENT
DTSTART;TZID=Europe/Budapest:20260821T150000
DTEND;TZID=Europe/Budapest:20260821T173000
DTSTAMP:20260420T101635
CREATED:20260219T124607Z
LAST-MODIFIED:20260219T124607Z
UID:8999-1787324400-1787333400@www.antzenekar.com
SUMMARY:Kolbásztöltő verseny - Telekgerendás
DESCRIPTION:
URL:https://www.antzenekar.com/esemenyek/kolbasztolto-verseny-telekgerendas/
LOCATION:Telekgerendás\, Telekgerendás\, 5675\, Hungary
CATEGORIES:Falunap,Fesztivál,Kolbásztöltő verseny
ATTACH;FMTTYPE=image/jpeg:https://www.antzenekar.com/wp-content/uploads/2026/02/A.N.T.-zenekar-1280-x550-02-1024x440-3-fo-szax-esi-Kanalas-en.jpg
END:VEVENT
BEGIN:VEVENT
DTSTART;VALUE=DATE:20260905
DTEND;VALUE=DATE:20260906
DTSTAMP:20260420T101635
CREATED:20260308T143405Z
LAST-MODIFIED:20260308T143405Z
UID:9012-1788566400-1788652799@www.antzenekar.com
SUMMARY:Lakodalom - Kishegyes
DESCRIPTION:
URL:https://www.antzenekar.com/esemenyek/lakodalom-kishegyes/
LOCATION:Kishegyes\, Kishegyes\, 24321\, Serbia
CATEGORIES:Esküvő,Lakodalom
ATTACH;FMTTYPE=image/jpeg:https://www.antzenekar.com/wp-content/uploads/2026/02/A.N.T.-zenekar-1280-x550-02-1024x440-4-fo-szax-es-Zoli-Kanalas.jpg
END:VEVENT
BEGIN:VEVENT
DTSTART;VALUE=DATE:20261003
DTEND;VALUE=DATE:20261004
DTSTAMP:20260420T101635
CREATED:20260219T114049Z
LAST-MODIFIED:20260219T114049Z
UID:8989-1790985600-1791071999@www.antzenekar.com
SUMMARY:Lakodalom - Jakabszállás
DESCRIPTION:
URL:https://www.antzenekar.com/esemenyek/lakodalom-jakabszallas/
LOCATION:Jakabszállás\, Jakabszállás\, 6078\, Hungary
CATEGORIES:Lakodalom
ATTACH;FMTTYPE=image/jpeg:https://www.antzenekar.com/wp-content/uploads/2026/02/A.N.T.-zenekar-1280-x550-02-1024x440-4-fo-szax-es-Zoli-Kanalas.jpg
END:VEVENT
BEGIN:VEVENT
DTSTART;VALUE=DATE:20261010
DTEND;VALUE=DATE:20261011
DTSTAMP:20260420T101635
CREATED:20260121T090434Z
LAST-MODIFIED:20260121T090434Z
UID:8931-1791590400-1791676799@www.antzenekar.com
SUMMARY:Lakodalom - Kiskunmajsa
DESCRIPTION:
URL:https://www.antzenekar.com/esemenyek/lakodalom-kiskunmajsa-2/
LOCATION:Kiskunmjasa\, Kiskunmajsa\, 6120\, Hungary
CATEGORIES:Esküvő,Lakodalom
ATTACH;FMTTYPE=image/jpeg:https://www.antzenekar.com/wp-content/uploads/2025/08/A.N.T.-zenekar-1280-x550-02-1024x440-5-fo-szax-es-Jozsi-Vegso-Kanalas.jpg
END:VEVENT
BEGIN:VEVENT
DTSTART;VALUE=DATE:20270522
DTEND;VALUE=DATE:20270523
DTSTAMP:20260420T101635
CREATED:20260323T110408Z
LAST-MODIFIED:20260323T110408Z
UID:9032-1810944000-1811030399@www.antzenekar.com
SUMMARY:Lakodalom - Ekecs
DESCRIPTION:Zenekar esküvőre\, bálra\, falunapra\, egyéb zenés rendezvényekre.
URL:https://www.antzenekar.com/esemenyek/lakodalom-ekecs/
LOCATION:Ekecs\, Ekecs\, 93028\, Slovakia (Slovak Republic)
CATEGORIES:Lakodalom
ATTACH;FMTTYPE=image/jpeg:https://www.antzenekar.com/wp-content/uploads/2026/03/A.N.T-azzur-06-fos.jpg
END:VEVENT
END:VCALENDAR