BEGIN:VCALENDAR
VERSION:2.0
PRODID:-//A.N.T. zenekar - ECPv6.15.20//NONSGML v1.0//EN
CALSCALE:GREGORIAN
METHOD:PUBLISH
X-ORIGINAL-URL:https://www.antzenekar.com
X-WR-CALDESC:Események A.N.T. zenekar
REFRESH-INTERVAL;VALUE=DURATION:PT1H
X-Robots-Tag:noindex
X-PUBLISHED-TTL:PT1H
BEGIN:VTIMEZONE
TZID:Europe/Budapest
BEGIN:DAYLIGHT
TZOFFSETFROM:+0100
TZOFFSETTO:+0200
TZNAME:CEST
DTSTART:20240331T010000
END:DAYLIGHT
BEGIN:STANDARD
TZOFFSETFROM:+0200
TZOFFSETTO:+0100
TZNAME:CET
DTSTART:20241027T010000
END:STANDARD
BEGIN:DAYLIGHT
TZOFFSETFROM:+0100
TZOFFSETTO:+0200
TZNAME:CEST
DTSTART:20250330T010000
END:DAYLIGHT
BEGIN:STANDARD
TZOFFSETFROM:+0200
TZOFFSETTO:+0100
TZNAME:CET
DTSTART:20251026T010000
END:STANDARD
BEGIN:DAYLIGHT
TZOFFSETFROM:+0100
TZOFFSETTO:+0200
TZNAME:CEST
DTSTART:20260329T010000
END:DAYLIGHT
BEGIN:STANDARD
TZOFFSETFROM:+0200
TZOFFSETTO:+0100
TZNAME:CET
DTSTART:20261025T010000
END:STANDARD
END:VTIMEZONE
BEGIN:VEVENT
DTSTART;VALUE=DATE:20250501
DTEND;VALUE=DATE:20250502
DTSTAMP:20260421T014203
CREATED:20241203T093232Z
LAST-MODIFIED:20241203T093718Z
UID:8157-1746057600-1746143999@www.antzenekar.com
SUMMARY:Foglalt - Pusztaszabolcs
DESCRIPTION:
URL:https://www.antzenekar.com/esemenyek/foglalt-szekesfehervar-3/
LOCATION:Pusztaszabolcs\, Pusztaszabolcs\, 2490\, Hungary
CATEGORIES:Falunap,Fesztivál,Koncert
END:VEVENT
BEGIN:VEVENT
DTSTART;VALUE=DATE:20250503
DTEND;VALUE=DATE:20250504
DTSTAMP:20260421T014203
CREATED:20250328T124323Z
LAST-MODIFIED:20250328T124323Z
UID:8274-1746230400-1746316799@www.antzenekar.com
SUMMARY:Foglalt - Agárd
DESCRIPTION:
URL:https://www.antzenekar.com/esemenyek/foglalt-agard-20/
LOCATION:Agárd
CATEGORIES:Foglalt
ATTACH;FMTTYPE=image/jpeg:https://www.antzenekar.com/wp-content/uploads/2020/11/Temerin-1280-x550-1-1.jpg
END:VEVENT
BEGIN:VEVENT
DTSTART;VALUE=DATE:20250517
DTEND;VALUE=DATE:20250518
DTSTAMP:20260421T014203
CREATED:20250204T181806Z
LAST-MODIFIED:20250418T141357Z
UID:8196-1747440000-1747526399@www.antzenekar.com
SUMMARY:Lakodalom - Szentes
DESCRIPTION:
URL:https://www.antzenekar.com/esemenyek/lakodalom-szentes/
LOCATION:Szentes\, Szentes\, 6600\, Hungary
CATEGORIES:Lakodalom
ATTACH;FMTTYPE=image/jpeg:https://www.antzenekar.com/wp-content/uploads/2025/04/A.N.T.-zenekar-1280-x550-02-1024x440-4-fo-szax-esKanalas-i-uj-teljes.jpg
END:VEVENT
BEGIN:VEVENT
DTSTART;VALUE=DATE:20250523
DTEND;VALUE=DATE:20250524
DTSTAMP:20260421T014203
CREATED:20241021T113446Z
LAST-MODIFIED:20241021T114203Z
UID:8110-1747958400-1748044799@www.antzenekar.com
SUMMARY:Lakodalom - Inárcs
DESCRIPTION:
URL:https://www.antzenekar.com/esemenyek/lakodalom-inarcs/
LOCATION:Inárcs\, Inárcs\, 2365\, Hungary
CATEGORIES:Lakodalom
ATTACH;FMTTYPE=image/jpeg:https://www.antzenekar.com/wp-content/uploads/2021/09/ant-azzuroval-Jani-Norbi.jpg
END:VEVENT
BEGIN:VEVENT
DTSTART;VALUE=DATE:20250524
DTEND;VALUE=DATE:20250525
DTSTAMP:20260421T014203
CREATED:20241111T083753Z
LAST-MODIFIED:20241111T143206Z
UID:8139-1748044800-1748131199@www.antzenekar.com
SUMMARY:Lakodalom - Cegléd
DESCRIPTION:
URL:https://www.antzenekar.com/esemenyek/lakodalom-cegled/
LOCATION:Cegléd\, Cegléd\, 2700\, Hungary
CATEGORIES:Lakodalom
ATTACH;FMTTYPE=image/jpeg:https://www.antzenekar.com/wp-content/uploads/2024/11/A.N.T.-zenekar-1280-x550-02-1024x440-4-fo-szax-Zsiga-Gyula-esTomi.jpg
END:VEVENT
BEGIN:VEVENT
DTSTART;VALUE=DATE:20250531
DTEND;VALUE=DATE:20250601
DTSTAMP:20260421T014203
CREATED:20240725T095117Z
LAST-MODIFIED:20240725T095117Z
UID:8003-1748649600-1748735999@www.antzenekar.com
SUMMARY:Lakodalom - Palkonya
DESCRIPTION:
URL:https://www.antzenekar.com/esemenyek/lakodalom-palkonya/
LOCATION:Palkonya\, 7771\, Magyarország
CATEGORIES:Lakodalom
ATTACH;FMTTYPE=image/jpeg:https://www.antzenekar.com/wp-content/uploads/2024/04/A.N.T.-zenekar-Azuro-1280-x550-02-1024x440-6-fo-szax-hegedu-.jpg
END:VEVENT
END:VCALENDAR