BEGIN:VCALENDAR
VERSION:2.0
PRODID:-//A.N.T. zenekar - ECPv6.15.20//NONSGML v1.0//EN
CALSCALE:GREGORIAN
METHOD:PUBLISH
X-WR-CALNAME:A.N.T. zenekar
X-ORIGINAL-URL:https://www.antzenekar.com
X-WR-CALDESC:Események A.N.T. zenekar
REFRESH-INTERVAL;VALUE=DURATION:PT1H
X-Robots-Tag:noindex
X-PUBLISHED-TTL:PT1H
BEGIN:VTIMEZONE
TZID:Europe/Budapest
BEGIN:DAYLIGHT
TZOFFSETFROM:+0100
TZOFFSETTO:+0200
TZNAME:CEST
DTSTART:20240331T010000
END:DAYLIGHT
BEGIN:STANDARD
TZOFFSETFROM:+0200
TZOFFSETTO:+0100
TZNAME:CET
DTSTART:20241027T010000
END:STANDARD
BEGIN:DAYLIGHT
TZOFFSETFROM:+0100
TZOFFSETTO:+0200
TZNAME:CEST
DTSTART:20250330T010000
END:DAYLIGHT
BEGIN:STANDARD
TZOFFSETFROM:+0200
TZOFFSETTO:+0100
TZNAME:CET
DTSTART:20251026T010000
END:STANDARD
BEGIN:DAYLIGHT
TZOFFSETFROM:+0100
TZOFFSETTO:+0200
TZNAME:CEST
DTSTART:20260329T010000
END:DAYLIGHT
BEGIN:STANDARD
TZOFFSETFROM:+0200
TZOFFSETTO:+0100
TZNAME:CET
DTSTART:20261025T010000
END:STANDARD
END:VTIMEZONE
BEGIN:VEVENT
DTSTART;VALUE=DATE:20250705
DTEND;VALUE=DATE:20250706
DTSTAMP:20260420T224243
CREATED:20240924T131849Z
LAST-MODIFIED:20240924T131849Z
UID:8075-1751673600-1751759999@www.antzenekar.com
SUMMARY:Lakodalom -Sobor
DESCRIPTION:
URL:https://www.antzenekar.com/esemenyek/lakodalom-sobor/
LOCATION:Sobor\, Sobor\, 9315\, Hungary
CATEGORIES:Lakodalom
ATTACH;FMTTYPE=image/jpeg:https://www.antzenekar.com/wp-content/uploads/2020/11/A.N.T.-zenekar-1280-x550-02-1024x440-4-fo-szax.jpg
END:VEVENT
BEGIN:VEVENT
DTSTART;VALUE=DATE:20250706
DTEND;VALUE=DATE:20250707
DTSTAMP:20260420T224243
CREATED:20250319T085924Z
LAST-MODIFIED:20250319T085924Z
UID:8251-1751760000-1751846399@www.antzenekar.com
SUMMARY:Foglalt - Hantos
DESCRIPTION:
URL:https://www.antzenekar.com/esemenyek/foglalt-hantos/
LOCATION:Hantos\, Hantos\, 2434\, Magyarország
CATEGORIES:Foglalt
ATTACH;FMTTYPE=image/jpeg:https://www.antzenekar.com/wp-content/uploads/2020/11/Temerin-1280-x550-1-1.jpg
END:VEVENT
BEGIN:VEVENT
DTSTART;VALUE=DATE:20250712
DTEND;VALUE=DATE:20250713
DTSTAMP:20260420T224243
CREATED:20241023T054352Z
LAST-MODIFIED:20250330T160953Z
UID:8118-1752278400-1752364799@www.antzenekar.com
SUMMARY:Foglalt - Sárszentágota
DESCRIPTION:
URL:https://www.antzenekar.com/esemenyek/foglalt-temerin-20/
CATEGORIES:Foglalt
ATTACH;FMTTYPE=image/jpeg:https://www.antzenekar.com/wp-content/uploads/2020/11/Temerin-1280-x550-1-1.jpg
END:VEVENT
BEGIN:VEVENT
DTSTART;VALUE=DATE:20250719
DTEND;VALUE=DATE:20250720
DTSTAMP:20260420T224243
CREATED:20250330T161047Z
LAST-MODIFIED:20250330T161047Z
UID:8284-1752883200-1752969599@www.antzenekar.com
SUMMARY:Foglalt - Temerin
DESCRIPTION:
URL:https://www.antzenekar.com/esemenyek/foglalt-temerin-21/
CATEGORIES:Foglalt
ATTACH;FMTTYPE=image/jpeg:https://www.antzenekar.com/wp-content/uploads/2020/11/Temerin-1280-x550-1-1.jpg
END:VEVENT
BEGIN:VEVENT
DTSTART;TZID=Europe/Budapest:20250720T200000
DTEND;TZID=Europe/Budapest:20250721T030000
DTSTAMP:20260420T224243
CREATED:20250622T134931Z
LAST-MODIFIED:20250714T090902Z
UID:8407-1753041600-1753066800@www.antzenekar.com
SUMMARY:Illés nap Temerin – Zenés\, táncos rendezvény – Bál
DESCRIPTION:Illés nap Temerin – Zenés\, táncos rendezvény – Bál\nIdőpont: 2025. Július 20.\nKezdés: 20:00\nVége: 03:00\nHelyszín: Vásártér – Temerin\nCím: Breza 4\, Temerin\, Szerbia \nhttps://www.youtube.com/@antzenekar/videos \n \nA temeriniek 171 éve tettek fogadalmat az Illés-nap megünneplésére\, amelynek jelentősége az itt élő magyarság nyelvi\, egyházi és kulturális hagyományainak megőrzésében rejlik. A temeriniek fogadalmának története az 1848–49-es magyar szabadságharcig nyúlik vissza. A forradalom után visszatérő temerini lakosság nehezen tudta újraindítani a termelést a parlagon maradt földeken. Emellett dögvész is sújtotta akkoriban a települést\, és rengeteg háziállat veszett oda. 1853. július 19-én nagy vihar verte el a gabonát Temerin határában. Ekkor tettek fogadalmat a falu lakói: ha többé hasonlóan pusztító szélvihar nem rontja le termésüket\, minden évben Illés-napon hálát adnak és közös misén emlékeznek meg a megőrzött áldásról. \nAz Illés-nap (július 20.) az Ószövetségben szereplő próféta\, Illés ünnepe\, akit a népi hiedelem a zivatarok\, villámok és esők patrónusaként tisztel. A temerini fogadalom szerint évtizedek óta – még a trianoni döntés\, a két világháború és a kommunista évtizedek viszontagságai után is – minden évben felvonulást tartanak a Gulyáscsárdától a templomig\, ahol ünnepi szentmisét tartanak. \nA vallási eseményt hagyományos magyar népzenei kíséret színesíti: a helyi citerazenekar dallamai és a dalkör énekszámai között népviseletbe öltözött gyermekek mutatnak be táncokat. A közösség a mise után sátoros vendéglátás keretében idézi meg a korabeli ünnepségeket\, ezzel is erősítve az összetartozást. \nA temerini Illés-napi ünnepség ma már nem csak vallási hagyományőrzés: a Magyar Kultúregyesület előadásokat\, kiállításokat és gyerekfoglalkozásokat szervez a helytörténet és a népi mesterségek bemutatására. A fiatalabb generációk így játékos formában sajátíthatják el a szülőfalujuk nyelvét és szokásait\, miközben a diaszpórából érkező vendégek is újra találkozhatnak régi rokonokkal\, barátokkal. \nEz a több mint másfél évszázados fogadalom ma is élő bizonyítéka Temerinben a hitnek\, az összetartásnak és a kulturális kontinuitásnak: évente egyszer\, Illés-napját megünneplik. \n\nEz egy nyílt rendezvény\, a szervezők és mi is mindenkit szeretettel várunk. Bulizzunk egy jót együtt! 🙂 \n\nRólunk mondták
URL:https://www.antzenekar.com/esemenyek/illes-nap-temerin-zenes-tancos-rendezveny-bal/
LOCATION:Temerin
CATEGORIES:Bál,Falunap
ATTACH;FMTTYPE=image/jpeg:https://www.antzenekar.com/wp-content/uploads/2021/08/A.N.T.-zenekar-1280-x550-02-1024x440-6-fo-szax-hegedu-basszus.jpg
END:VEVENT
BEGIN:VEVENT
DTSTART;VALUE=DATE:20250725
DTEND;VALUE=DATE:20250726
DTSTAMP:20260420T224243
CREATED:20250328T124214Z
LAST-MODIFIED:20250328T124214Z
UID:8272-1753401600-1753487999@www.antzenekar.com
SUMMARY:Foglalt - Agárd
DESCRIPTION:
URL:https://www.antzenekar.com/esemenyek/foglalt-agard-19/
LOCATION:Agárd
CATEGORIES:Foglalt
ATTACH;FMTTYPE=image/jpeg:https://www.antzenekar.com/wp-content/uploads/2020/11/Temerin-1280-x550-1-1.jpg
END:VEVENT
BEGIN:VEVENT
DTSTART;VALUE=DATE:20250726
DTEND;VALUE=DATE:20250727
DTSTAMP:20260420T224243
CREATED:20250328T122237Z
LAST-MODIFIED:20250328T122853Z
UID:8260-1753488000-1753574399@www.antzenekar.com
SUMMARY:Lakodalom - Tatárszentgyörgy
DESCRIPTION:
URL:https://www.antzenekar.com/esemenyek/lakodalom-tatarszentgyorgy/
LOCATION:Tatárszentgyörgy\, Tatárszentgyörgy\, 2375\, Hungary
ATTACH;FMTTYPE=image/jpeg:https://www.antzenekar.com/wp-content/uploads/2020/11/A.N.T.-zenekar-1280-x550-02-1024x440-4-fo-szax.jpg
END:VEVENT
BEGIN:VEVENT
DTSTART;VALUE=DATE:20250727
DTEND;VALUE=DATE:20250728
DTSTAMP:20260420T224243
CREATED:20250724T115056Z
LAST-MODIFIED:20250724T115056Z
UID:8451-1753574400-1753660799@www.antzenekar.com
SUMMARY:Születésnap - Temerin
DESCRIPTION:
URL:https://www.antzenekar.com/esemenyek/szuletesnap-temerin/
LOCATION:Temerin
CATEGORIES:Házassági évforduló,Születésnap
ATTACH;FMTTYPE=image/jpeg:https://www.antzenekar.com/wp-content/uploads/2025/06/A.N.T.-zenekar-1280-x550-02-1024x440-3-fo-szax-esKanalas.jpg
END:VEVENT
END:VCALENDAR