BEGIN:VCALENDAR
VERSION:2.0
PRODID:-//A.N.T. zenekar - ECPv6.15.20//NONSGML v1.0//EN
CALSCALE:GREGORIAN
METHOD:PUBLISH
X-WR-CALNAME:A.N.T. zenekar
X-ORIGINAL-URL:https://www.antzenekar.com
X-WR-CALDESC:Események A.N.T. zenekar
REFRESH-INTERVAL;VALUE=DURATION:PT1H
X-Robots-Tag:noindex
X-PUBLISHED-TTL:PT1H
BEGIN:VTIMEZONE
TZID:Europe/Budapest
BEGIN:DAYLIGHT
TZOFFSETFROM:+0100
TZOFFSETTO:+0200
TZNAME:CEST
DTSTART:20240331T010000
END:DAYLIGHT
BEGIN:STANDARD
TZOFFSETFROM:+0200
TZOFFSETTO:+0100
TZNAME:CET
DTSTART:20241027T010000
END:STANDARD
BEGIN:DAYLIGHT
TZOFFSETFROM:+0100
TZOFFSETTO:+0200
TZNAME:CEST
DTSTART:20250330T010000
END:DAYLIGHT
BEGIN:STANDARD
TZOFFSETFROM:+0200
TZOFFSETTO:+0100
TZNAME:CET
DTSTART:20251026T010000
END:STANDARD
BEGIN:DAYLIGHT
TZOFFSETFROM:+0100
TZOFFSETTO:+0200
TZNAME:CEST
DTSTART:20260329T010000
END:DAYLIGHT
BEGIN:STANDARD
TZOFFSETFROM:+0200
TZOFFSETTO:+0100
TZNAME:CET
DTSTART:20261025T010000
END:STANDARD
END:VTIMEZONE
BEGIN:VEVENT
DTSTART;VALUE=DATE:20250802
DTEND;VALUE=DATE:20250803
DTSTAMP:20260420T210546
CREATED:20240812T175835Z
LAST-MODIFIED:20240812T175835Z
UID:8033-1754092800-1754179199@www.antzenekar.com
SUMMARY:Lakodalom - Vasszécseny
DESCRIPTION:
URL:https://www.antzenekar.com/esemenyek/lakodalom-vasszecseny/
LOCATION:Vasszécseny\, Vaszsécseny\, 9763\, Magyarország
CATEGORIES:Lakodalom
ATTACH;FMTTYPE=image/jpeg:https://www.antzenekar.com/wp-content/uploads/2020/11/A.N.T.-zenekar-1280-x550-02-1024x440-4-fo-szax.jpg
END:VEVENT
BEGIN:VEVENT
DTSTART;VALUE=DATE:20250822
DTEND;VALUE=DATE:20250823
DTSTAMP:20260420T210546
CREATED:20250328T124118Z
LAST-MODIFIED:20250328T124118Z
UID:8270-1755820800-1755907199@www.antzenekar.com
SUMMARY:Foglalt - Agárd
DESCRIPTION:
URL:https://www.antzenekar.com/esemenyek/foglalt-agard-18/
LOCATION:Agárd
CATEGORIES:Foglalt
ATTACH;FMTTYPE=image/jpeg:https://www.antzenekar.com/wp-content/uploads/2020/11/Temerin-1280-x550-1-1.jpg
END:VEVENT
BEGIN:VEVENT
DTSTART;VALUE=DATE:20250823
DTEND;VALUE=DATE:20250824
DTSTAMP:20260420T210546
CREATED:20240414T183058Z
LAST-MODIFIED:20240414T183058Z
UID:7829-1755907200-1755993599@www.antzenekar.com
SUMMARY:Lakodalom - Sárospatak
DESCRIPTION:
URL:https://www.antzenekar.com/esemenyek/lakodalom-sarospatak/
LOCATION:Sárospatak\, 3944\, Magyarország
CATEGORIES:Lakodalom
ATTACH;FMTTYPE=image/jpeg:https://www.antzenekar.com/wp-content/uploads/2024/04/A.N.T.-zenekar-Azuro-1280-x550-02-1024x440-6-fo-szax-hegedu-.jpg
END:VEVENT
BEGIN:VEVENT
DTSTART;VALUE=DATE:20250829
DTEND;VALUE=DATE:20250830
DTSTAMP:20260420T210546
CREATED:20250729T162529Z
LAST-MODIFIED:20250729T162529Z
UID:8465-1756425600-1756511999@www.antzenekar.com
SUMMARY:Foglalt - Temerin
DESCRIPTION:
URL:https://www.antzenekar.com/esemenyek/foglalt-temerin-25/
LOCATION:Temerin
CATEGORIES:Foglalt
ATTACH;FMTTYPE=image/jpeg:https://www.antzenekar.com/wp-content/uploads/2020/11/Temerin-1280-x550-1-1.jpg
END:VEVENT
BEGIN:VEVENT
DTSTART;VALUE=DATE:20250830
DTEND;VALUE=DATE:20250831
DTSTAMP:20260420T210546
CREATED:20250729T162633Z
LAST-MODIFIED:20250729T162633Z
UID:8467-1756512000-1756598399@www.antzenekar.com
SUMMARY:Foglalt - Temerin
DESCRIPTION:
URL:https://www.antzenekar.com/esemenyek/foglalt-temerin-26/
CATEGORIES:Foglalt
ATTACH;FMTTYPE=image/jpeg:https://www.antzenekar.com/wp-content/uploads/2020/11/Temerin-1280-x550-1-1.jpg
END:VEVENT
END:VCALENDAR