BEGIN:VCALENDAR
VERSION:2.0
PRODID:-//A.N.T. zenekar - ECPv6.15.20//NONSGML v1.0//EN
CALSCALE:GREGORIAN
METHOD:PUBLISH
X-ORIGINAL-URL:https://www.antzenekar.com
X-WR-CALDESC:Események A.N.T. zenekar
REFRESH-INTERVAL;VALUE=DURATION:PT1H
X-Robots-Tag:noindex
X-PUBLISHED-TTL:PT1H
BEGIN:VTIMEZONE
TZID:Europe/Budapest
BEGIN:DAYLIGHT
TZOFFSETFROM:+0100
TZOFFSETTO:+0200
TZNAME:CEST
DTSTART:20240331T010000
END:DAYLIGHT
BEGIN:STANDARD
TZOFFSETFROM:+0200
TZOFFSETTO:+0100
TZNAME:CET
DTSTART:20241027T010000
END:STANDARD
BEGIN:DAYLIGHT
TZOFFSETFROM:+0100
TZOFFSETTO:+0200
TZNAME:CEST
DTSTART:20250330T010000
END:DAYLIGHT
BEGIN:STANDARD
TZOFFSETFROM:+0200
TZOFFSETTO:+0100
TZNAME:CET
DTSTART:20251026T010000
END:STANDARD
BEGIN:DAYLIGHT
TZOFFSETFROM:+0100
TZOFFSETTO:+0200
TZNAME:CEST
DTSTART:20260329T010000
END:DAYLIGHT
BEGIN:STANDARD
TZOFFSETFROM:+0200
TZOFFSETTO:+0100
TZNAME:CET
DTSTART:20261025T010000
END:STANDARD
BEGIN:DAYLIGHT
TZOFFSETFROM:+0100
TZOFFSETTO:+0200
TZNAME:CEST
DTSTART:20270328T010000
END:DAYLIGHT
BEGIN:STANDARD
TZOFFSETFROM:+0200
TZOFFSETTO:+0100
TZNAME:CET
DTSTART:20271031T010000
END:STANDARD
END:VTIMEZONE
BEGIN:VEVENT
DTSTART;TZID=Europe/Budapest:20251231T190000
DTEND;TZID=Europe/Budapest:20260101T040000
DTSTAMP:20260420T132358
CREATED:20250428T152540Z
LAST-MODIFIED:20251127T112437Z
UID:8366-1767207600-1767240000@www.antzenekar.com
SUMMARY:Szilveszteri bál 2026 - Jászalsószentgyörgy
DESCRIPTION: Szilveszteri Party 2025 Jászalsószentgyörgy – Itt kezdődik a buli! \n Készülj egy éjszakára\, ahol minden a jó hangulatról és a korlátlan élvezetről szól! \n 18:00 – Üdvözlőital és vendégvárás (hogy gyorsabban beinduljon a “szilveszteri üzemmód” ) \n 20:00 – Korlátlan Svédasztal (mert a diéta csak januárban kezdődik! ) \n Zene\, tánc\, meglepetések és óriási buli hajnalig! Minden ami egy tökéletes szilveszterhez kell! Légy velünk az év legnagyobb záróbuliján!  \nBővebb infó: +36 70 554 7245 vagy 36 70 567 4950
URL:https://www.antzenekar.com/esemenyek/szilveszteri-bal-jaszalsoszentgyorgy/
LOCATION:Jászalsószentgyörgy\, Jászalsószentgyörgy\, 5054\, Hungary
CATEGORIES:Bál
ATTACH;FMTTYPE=image/jpeg:https://www.antzenekar.com/wp-content/uploads/2020/11/A.N.T.-zenekar-1280-x550-02-1024x440-4-fo-szax.jpg
END:VEVENT
END:VCALENDAR