BEGIN:VCALENDAR
VERSION:2.0
PRODID:-//A.N.T. zenekar - ECPv6.15.20//NONSGML v1.0//EN
CALSCALE:GREGORIAN
METHOD:PUBLISH
X-ORIGINAL-URL:https://www.antzenekar.com
X-WR-CALDESC:Események A.N.T. zenekar
REFRESH-INTERVAL;VALUE=DURATION:PT1H
X-Robots-Tag:noindex
X-PUBLISHED-TTL:PT1H
BEGIN:VTIMEZONE
TZID:Europe/Budapest
BEGIN:DAYLIGHT
TZOFFSETFROM:+0100
TZOFFSETTO:+0200
TZNAME:CEST
DTSTART:20250330T010000
END:DAYLIGHT
BEGIN:STANDARD
TZOFFSETFROM:+0200
TZOFFSETTO:+0100
TZNAME:CET
DTSTART:20251026T010000
END:STANDARD
BEGIN:DAYLIGHT
TZOFFSETFROM:+0100
TZOFFSETTO:+0200
TZNAME:CEST
DTSTART:20260329T010000
END:DAYLIGHT
BEGIN:STANDARD
TZOFFSETFROM:+0200
TZOFFSETTO:+0100
TZNAME:CET
DTSTART:20261025T010000
END:STANDARD
BEGIN:DAYLIGHT
TZOFFSETFROM:+0100
TZOFFSETTO:+0200
TZNAME:CEST
DTSTART:20270328T010000
END:DAYLIGHT
BEGIN:STANDARD
TZOFFSETFROM:+0200
TZOFFSETTO:+0100
TZNAME:CET
DTSTART:20271031T010000
END:STANDARD
END:VTIMEZONE
BEGIN:VEVENT
DTSTART;VALUE=DATE:20260501
DTEND;VALUE=DATE:20260502
DTSTAMP:20260420T123858
CREATED:20260404T113555Z
LAST-MODIFIED:20260404T113555Z
UID:9038-1777593600-1777679999@www.antzenekar.com
SUMMARY:Foglalt -Agárd
DESCRIPTION:
URL:https://www.antzenekar.com/esemenyek/foglalt-agard-21/
CATEGORIES:Foglalt
ATTACH;FMTTYPE=image/jpeg:https://www.antzenekar.com/wp-content/uploads/2020/11/Temerin-1280-x550-1-1.jpg
END:VEVENT
BEGIN:VEVENT
DTSTART;VALUE=DATE:20260502
DTEND;VALUE=DATE:20260503
DTSTAMP:20260420T123858
CREATED:20251030T193646Z
LAST-MODIFIED:20251030T193646Z
UID:8787-1777680000-1777766399@www.antzenekar.com
SUMMARY:Lakodalom - Békéscsaba
DESCRIPTION:
URL:https://www.antzenekar.com/esemenyek/lakodalom-bekescsaba/
LOCATION:Békéscsaba\, 5600\, Hungary
CATEGORIES:Lakodalom
ATTACH;FMTTYPE=image/jpeg:https://www.antzenekar.com/wp-content/uploads/2025/10/A.N.T.-zenekar-1280-x550-02-1024x440-5-fo-szax-es-Attila-JozsiZoli-i-uj.jpg
END:VEVENT
BEGIN:VEVENT
DTSTART;VALUE=DATE:20260516
DTEND;VALUE=DATE:20260517
DTSTAMP:20260420T123858
CREATED:20250724T115331Z
LAST-MODIFIED:20250724T120337Z
UID:8453-1778889600-1778975999@www.antzenekar.com
SUMMARY:Foglalt - Üllő
DESCRIPTION:
URL:https://www.antzenekar.com/esemenyek/foglalt-ullo/
LOCATION:Üllő\, Üllő\, 2225\, Hungary
CATEGORIES:Foglalt,Születésnap
ATTACH;FMTTYPE=image/jpeg:https://www.antzenekar.com/wp-content/uploads/2020/11/Temerin-1280-x550-1-1.jpg
END:VEVENT
BEGIN:VEVENT
DTSTART;VALUE=DATE:20260523
DTEND;VALUE=DATE:20260524
DTSTAMP:20260420T123858
CREATED:20250423T063406Z
LAST-MODIFIED:20250423T063406Z
UID:8353-1779494400-1779580799@www.antzenekar.com
SUMMARY:Lakodalom - Csóka
DESCRIPTION:
URL:https://www.antzenekar.com/esemenyek/lakodalom-csoka-2/
LOCATION:Csóka\, 23320\, Serbia
CATEGORIES:Lakodalom
ATTACH;FMTTYPE=image/jpeg:https://www.antzenekar.com/wp-content/uploads/2025/04/A.N.T.-zenekar-4-fos-teljes-Karcsi-billentyu-Jozsi-Hegedu.jpg
END:VEVENT
BEGIN:VEVENT
DTSTART;VALUE=DATE:20260530
DTEND;VALUE=DATE:20260531
DTSTAMP:20260420T123858
CREATED:20251229T123205Z
LAST-MODIFIED:20251229T123205Z
UID:8871-1780099200-1780185599@www.antzenekar.com
SUMMARY:Foglalt - Mezőtúr
DESCRIPTION:
URL:https://www.antzenekar.com/esemenyek/foglalt-mezotur/
LOCATION:Mezőtúr\, 5400\, Hungary
CATEGORIES:Foglalt,Lakodalom
ATTACH;FMTTYPE=image/jpeg:https://www.antzenekar.com/wp-content/uploads/2020/11/Temerin-1280-x550-.jpg
END:VEVENT
END:VCALENDAR